BEGIN:VCALENDAR
VERSION:2.0
PRODID:-//ChamberMaster//Event Calendar 2.0//EN
METHOD:PUBLISH
X-PUBLISHED-TTL:P3D
REFRESH-INTERVAL:P3D
CALSCALE:GREGORIAN
BEGIN:VEVENT
DTSTART:20190926T130000Z
DTEND:20190926T183000Z
X-MICROSOFT-CDO-ALLDAYEVENT:FALSE
SUMMARY:Harford County Second Chance Job & Resource Fair
DESCRIPTION:Join the Harford County Office of Human Relations & Mediation for this FREE event. Offering employment opportunities and resources for expungement\, job training\, bonding\, transportation and housing for those who have had past criminal charges or experienced incarceration. Register today at www.harfordcountymd.gov/SecondChance. For information call 410.638.3389 or email sefisher@harfordcountymd.gov.
X-ALT-DESC;FMTTYPE=text/html:Join the Harford County Office of Human Relations &amp\; Mediation for this FREE event. Offering employment opportunities and resources for expungement\, job training\, bonding\, transportation and housing for those who have had past criminal charges or experienced incarceration. Register today at www.harfordcountymd.gov/SecondChance. For information call 410.638.3389 or email sefisher@harfordcountymd.gov.
LOCATION:The EPICENTER at Edgewood 1918 Pulaski Hwy Edgewood\, MD 21040
UID:e.2776.8450
SEQUENCE:3
DTSTAMP:20260425T234826Z
URL:https://business.harfordchamber.org/events/details/harford-county-second-chance-job-resource-fair-09-26-2019-8450
END:VEVENT

END:VCALENDAR
