BEGIN:VCALENDAR
VERSION:2.0
PRODID:-//ChamberMaster//Event Calendar 2.0//EN
METHOD:PUBLISH
X-PUBLISHED-TTL:P3D
REFRESH-INTERVAL:P3D
CALSCALE:GREGORIAN
BEGIN:VEVENT
DTSTART:20190821T220000Z
DTEND:20190822T000000Z
X-MICROSOFT-CDO-ALLDAYEVENT:FALSE
SUMMARY:Harford County Small Business Seminar: Accounting & Bookkeeping
DESCRIPTION:As part of the Harford County Office of Community & Economic's Small Business Seminar series\, learn accounting and bookkeeping concepts\, procedures and processes and to learn the importance of accurate financial reporting. Reserve your spot by emailing lmkrysiak@harfordcountymd.gov.
X-ALT-DESC;FMTTYPE=text/html:As part of the Harford County Office of Community &amp\; Economic&#39\;s Small Business Seminar series\, learn accounting and bookkeeping concepts\, procedures and processes and to learn the importance of accurate financial reporting. Reserve your spot by emailing lmkrysiak@harfordcountymd.gov.
LOCATION:The Groundfloor 2021D Pulaski Hwy Havre de Grace\, MD 21078
UID:e.2776.8431
SEQUENCE:3
DTSTAMP:20260426T031142Z
URL:https://business.harfordchamber.org/events/details/harford-county-small-business-seminar-accounting-bookkeeping-8431
END:VEVENT

END:VCALENDAR
