BEGIN:VCALENDAR
VERSION:2.0
PRODID:-//ChamberMaster//Event Calendar 2.0//EN
METHOD:PUBLISH
X-PUBLISHED-TTL:P3D
REFRESH-INTERVAL:P3D
CALSCALE:GREGORIAN
BEGIN:VEVENT
DTSTART:20191120T230000Z
DTEND:20191121T010000Z
X-MICROSOFT-CDO-ALLDAYEVENT:FALSE
SUMMARY:Harford County Small Business Seminar: Ask the Experts
DESCRIPTION:Small business owners bring your questions and join the Harford County Office of Community & Economic Development to receive FREE advice from a team of professionals - a Banker\, an Accountant\, an Insurance Agent\, and a Lawyer. Register today: https://www.facebook.com/events/449334145679746/
X-ALT-DESC;FMTTYPE=text/html:Small business owners bring your questions and join the Harford County Office of Community &amp\; Economic Development to receive FREE advice from a team of professionals - a Banker\, an Accountant\, an Insurance Agent\, and a Lawyer. Register today: https://www.facebook.com/events/449334145679746/
LOCATION:The GroundFloor 2021G Pulaski Hwy Havre de Grace\, MD 21078
UID:e.2776.10578
SEQUENCE:3
DTSTAMP:20260424T221055Z
URL:https://business.harfordchamber.org/events/details/harford-county-small-business-seminar-ask-the-experts-11-20-2019-10578
END:VEVENT

END:VCALENDAR
