BEGIN:VCALENDAR
VERSION:2.0
PRODID:-//ChamberMaster//Event Calendar 2.0//EN
METHOD:PUBLISH
X-PUBLISHED-TTL:P3D
REFRESH-INTERVAL:P3D
CALSCALE:GREGORIAN
BEGIN:VEVENT
DTSTART:20190918T220000Z
DTEND:20190919T000000Z
X-MICROSOFT-CDO-ALLDAYEVENT:FALSE
SUMMARY:Harford County Small Business Seminar: Stand Out from the Competition
DESCRIPTION:The Harford County Office of Community & Economic Development's FREE Small Business Seminar series presents "Stand Out from the Competition": Competition is everywhere\, so how do some businesses stand out from the crowd? They communicate their value to potential customers - their UNIQUE VALUE PROPOSITION. After this seminar\, you'll be able to: - Understand your target market and competition - Identify & write your own Unique Value Proposition Reserve your spot by emailing lmkrysiak@harfordcountymd.gov.
X-ALT-DESC;FMTTYPE=text/html:The Harford County Office of Community &amp\; Economic Development&#39\;s FREE Small Business Seminar series presents &ldquo\;Stand Out from the Competition&rdquo\;: Competition is everywhere\, so how do some businesses stand out from the crowd? They communicate their value to potential customers - their UNIQUE VALUE PROPOSITION. After this seminar\, you&rsquo\;ll be able to: - Understand your target market and competition - Identify &amp\; write your own Unique Value Proposition Reserve your spot by emailing lmkrysiak@harfordcountymd.gov.
LOCATION:The GroundFloor 2021D Pulaski Hwy Havre de Grace\, MD 21078
UID:e.2776.8494
SEQUENCE:3
DTSTAMP:20260425T234948Z
URL:https://business.harfordchamber.org/events/details/harford-county-small-business-seminar-stand-out-from-the-competition-8494
END:VEVENT

END:VCALENDAR
