BEGIN:VCALENDAR
VERSION:2.0
PRODID:-//ChamberMaster//Event Calendar 2.0//EN
METHOD:PUBLISH
X-PUBLISHED-TTL:P3D
REFRESH-INTERVAL:P3D
CALSCALE:GREGORIAN
BEGIN:VEVENT
DTSTART:20190918T230000Z
DTEND:20190919T010000Z
X-MICROSOFT-CDO-ALLDAYEVENT:FALSE
SUMMARY:Harford County Stop the Bleed Training
DESCRIPTION:Harford County will offer a series of FREE classes on mental health and safety to raise awareness and empower citizens to peacefully resolve conflict and help others in crisis: This class\, presented by the Harford County Department of Emergency Services\, will teach participants live-saving techniques. Stop the Bleed is a national awareness campaign that encourages bystanders to become trained\, equipped\, and empowered to help in a bleeding emergency before professional help arrives. Register here: https://www.harfordcountymd.gov/FormCenter/Government-Community-Relations-47/Mental-Health-Safety-Community-Education-305
X-ALT-DESC;FMTTYPE=text/html:Harford County will offer a series of FREE classes on mental health and safety to raise awareness and empower citizens to peacefully resolve conflict and help others in crisis: This class\, presented by the Harford County Department of Emergency Services\, will teach participants live-saving techniques. Stop the Bleed is a national awareness campaign that encourages bystanders to become trained\, equipped\, and empowered to help in a bleeding emergency before professional help arrives. Register here: https://www.harfordcountymd.gov/FormCenter/Government-Community-Relations-47/Mental-Health-Safety-Community-Education-305
LOCATION:Harford County Government Building 2220 Ady Road Forest Hill\, MD 21050
UID:e.2776.8512
SEQUENCE:3
DTSTAMP:20260425T233930Z
URL:https://business.harfordchamber.org/events/details/harford-county-stop-the-bleed-training-8512
END:VEVENT

END:VCALENDAR
