BEGIN:VCALENDAR
VERSION:2.0
PRODID:-//ChamberMaster//Event Calendar 2.0//EN
METHOD:PUBLISH
X-PUBLISHED-TTL:P3D
REFRESH-INTERVAL:P3D
CALSCALE:GREGORIAN
BEGIN:VEVENT
DTSTART:20190925T230000Z
DTEND:20190926T010000Z
X-MICROSOFT-CDO-ALLDAYEVENT:FALSE
SUMMARY:Harford County Suicide Prevention (QPR) Training
DESCRIPTION:Harford County will offer a series of FREE classes on mental health and safety to raise awareness and empower citizens to peacefully resolve conflict and help others in crisis: QPR stands for Question\, Persuade\, and Refer   The three simple steps anyone can learn to help save a life from suicide. Just as people trained in CPR and the Heimlich maneuver help save thousands of lives each year\, people trained in QPR learn how to recognize the warning signs of a suicide crisis and how to question\, persuade\, and refer someone to help. Training is provided by staff from the Harford County Department of Community Services. Register here: https://www.harfordcountymd.gov/FormCenter/Government-Community-Relations-47/Mental-Health-Safety-Community-Education-305
X-ALT-DESC;FMTTYPE=text/html:Harford County will offer a series of FREE classes on mental health and safety to raise awareness and empower citizens to peacefully resolve conflict and help others in crisis: QPR stands for Question\, Persuade\, and Refer &mdash\; The three simple steps anyone can learn to help save a life from suicide. Just as people trained in CPR and the Heimlich maneuver help save thousands of lives each year\, people trained in QPR learn how to recognize the warning signs of a suicide crisis and how to question\, persuade\, and refer someone to help. Training is provided by staff from the Harford County Department of Community Services. Register here: https://www.harfordcountymd.gov/FormCenter/Government-Community-Relations-47/Mental-Health-Safety-Community-Education-305
LOCATION:Harford County Government Building 2220 Ady Road Forest Hill\, MD 21050
UID:e.2776.8513
SEQUENCE:3
DTSTAMP:20260425T234137Z
URL:https://business.harfordchamber.org/events/details/harford-county-suicide-prevention-qpr-training-09-25-2019-8513
END:VEVENT

END:VCALENDAR
