BEGIN:VCALENDAR
VERSION:2.0
PRODID:-//ChamberMaster//Event Calendar 2.0//EN
METHOD:PUBLISH
X-PUBLISHED-TTL:P3D
REFRESH-INTERVAL:P3D
CALSCALE:GREGORIAN
BEGIN:VEVENT
DTSTART:20250816T140000Z
DTEND:20250816T170000Z
X-MICROSOFT-CDO-ALLDAYEVENT:FALSE
SUMMARY:Harford Dance Theatre: The Nutcracker AUDITIONS
DESCRIPTION:AUDITION ANNOUNCEMENT\n\nHarford Dance Theatre: The Nutcracker\n\n\n\nSATURDAY\, AUGUST 16\, 2025\n\n\n\nDirected by Mckenzie Horseman\n\nAuditions will be held at the Susquehanna Dance Studio located at Entrance #2 on the HCC Campus.\n\n\n\nPerformance dates Friday\, December 5 - Sunday\, December 7\, 2025.\n\n\n\nDancers Ages 6-8 with a Minimum of 1 Year Dance Training\n\nRegistration: 10:00 AM\n\nAudition: 10:30 11:30 AM\n\n\n\n* Please wear leotard\, tights\, solid color skirt/shorts\, ballet shoes.\n\n\n\nDancers Ages 9-11 with a Minimum of 1 Year Dance Training\n\nRegistration: 11:00 AM\n\nAudition: 11:30 1:00 PM\n\n\n\n* Please wear leotard\, tights\, solid color skirt/shorts\, ballet shoes. If you are interested in auditioning for a tap piece\, bring your tap shoes.\n\nDancers Ages 12+ with a Minimum of 3 Years Dance Training\n\nRegistration: 12:30 PM\n\nAudition/Class: 1:00 2:30 PM\n\n\n\nPlease wear leotard\, tights\, solid color skirt/shorts\, ballet/pointe shoes. If you are interested in auditioning for a tap piece\, bring your tap shoes.\n\n\n\nPlease note: Some dancers may be asked to stay for a second audition time.\n\n\n\n***ALL DANCERS SHOULD BE CURRENTLY ENROLLED IN BALLET CLASSES***\n\nAccessibility: Harford Community College is committed to promoting the full participation of all individuals with disabilities at the event. For disability-related accommodations\, contact 443-412-2211 at least two weeks in advance.\n\n\n\nIf you have any questions\, please contact Suzie Thompson at sthompson@harford.edu.
X-ALT-DESC;FMTTYPE=text/html:AUDITION ANNOUNCEMENT<br />\nHarford Dance Theatre: The Nutcracker<br />\n<br />\nSATURDAY\, AUGUST 16\, 2025<br />\n<br />\nDirected by Mckenzie Horseman<br />\nAuditions will be held at the Susquehanna Dance Studio located at Entrance #2 on the HCC Campus.<br />\n<br />\nPerformance dates Friday\, December 5 - Sunday\, December 7\, 2025.<br />\n<br />\nDancers Ages 6-8 with a Minimum of 1 Year Dance Training<br />\nRegistration: 10:00 AM<br />\nAudition: 10:30&ndash\;11:30 AM<br />\n<br />\n* Please wear leotard\, tights\, solid color skirt/shorts\, ballet shoes.<br />\n<br />\nDancers Ages 9-11 with a Minimum of 1 Year Dance Training<br />\nRegistration: 11:00 AM<br />\nAudition: 11:30&ndash\;1:00 PM<br />\n<br />\n* Please wear leotard\, tights\, solid color skirt/shorts\, ballet shoes. If you are interested in auditioning for a tap piece\, bring your tap shoes.<br />\nDancers Ages 12+ with a Minimum of 3 Years Dance Training<br />\nRegistration: 12:30 PM<br />\nAudition/Class: 1:00&ndash\;2:30 PM<br />\n<br />\nPlease wear leotard\, tights\, solid color skirt/shorts\, ballet/pointe shoes. If you are interested in auditioning for a tap piece\, bring your tap shoes.<br />\n<br />\nPlease note: Some dancers may be asked to stay for a second audition time.<br />\n<br />\n***ALL DANCERS SHOULD BE CURRENTLY ENROLLED IN BALLET CLASSES***<br />\nAccessibility: Harford Community College is committed to promoting the full participation of all individuals with disabilities at the event. For disability-related accommodations\, contact 443-412-2211 at least two weeks in advance.<br />\n<br />\nIf you have any questions\, please contact Suzie Thompson at sthompson@harford.edu.
LOCATION:Harford Community College | Susquehanna Dance Studio
UID:e.2776.15750
SEQUENCE:3
DTSTAMP:20260421T130911Z
URL:https://business.harfordchamber.org/events/details/harford-dance-theatre-the-nutcracker-auditions-15750
END:VEVENT

END:VCALENDAR
