BEGIN:VCALENDAR
VERSION:2.0
PRODID:-//ChamberMaster//Event Calendar 2.0//EN
METHOD:PUBLISH
X-PUBLISHED-TTL:P3D
REFRESH-INTERVAL:P3D
CALSCALE:GREGORIAN
BEGIN:VEVENT
DTSTART:20190720T130000Z
DTEND:20190720T163000Z
X-MICROSOFT-CDO-ALLDAYEVENT:FALSE
SUMMARY:Harford Streams Summer Adventure Poker Run
DESCRIPTION:Join Harford County Dept. of Public Works' Office of Water Protection & Restoration at this FREE event for all ages. Pre-registration is recommended but not required at bit.ly/HSSummerAdventure. Participants will visit assigned stream locations and take selfies while collecting one playing card from an attendant at each site. Begin your adventure at Eden Mill Nature Center between 9 - 10 a.m. for registration\, and to receive your score sheet and a list of locations\, then meet back at the center at 12:30 p.m. All participants who complete the poker run will earn a T-shirt. Any questions\, contact Laura Coste at lmcoste@harfordcountymd.gov or 410-638-3217 x2448.
X-ALT-DESC;FMTTYPE=text/html:Join Harford County Dept. of Public Works&rsquo\; Office of Water Protection &amp\; Restoration at this FREE event for all ages. Pre-registration is recommended but not required at bit.ly/HSSummerAdventure. Participants will visit assigned stream locations and take selfies while collecting one playing card from an attendant at each site. Begin your adventure at Eden Mill Nature Center between 9 - 10 a.m. for registration\, and to receive your score sheet and a list of locations\, then meet back at the center at 12:30 p.m. All participants who complete the poker run will earn a T-shirt. Any questions\, contact Laura Coste at lmcoste@harfordcountymd.gov or 410-638-3217 x2448.
LOCATION:Eden Mill Nature Center 1617 Eden Mill Road Pylesville\, MD 21132
UID:e.2776.8449
SEQUENCE:3
DTSTAMP:20260426T031741Z
URL:https://business.harfordchamber.org/events/details/harford-streams-summer-adventure-poker-run-8449
END:VEVENT

END:VCALENDAR
