BEGIN:VCALENDAR
VERSION:2.0
PRODID:-//ChamberMaster//Event Calendar 2.0//EN
METHOD:PUBLISH
X-PUBLISHED-TTL:P3D
REFRESH-INTERVAL:P3D
CALSCALE:GREGORIAN
BEGIN:VEVENT
DTSTART:20191123T170000Z
DTEND:20191123T200000Z
X-MICROSOFT-CDO-ALLDAYEVENT:FALSE
SUMMARY:Heated4U Grand Opening Celebration!
DESCRIPTION:Heated clothing & accessories to keep you warm and safe during any outdoor activity!\n\n\n\nJoin us for the Grand Opening of our new Heated 4 U retail store!\n\n\n\nDuring the event we will have Raffle Prizes & Special Early Black Friday Discounts.\n\n\n\nCome meet our crazy fun family & start shopping for the holidays!\n\n\n\nThe opening event will end at 3pm\, however discounts will be available & the store will be open until 6pm.
X-ALT-DESC;FMTTYPE=text/html:<span style="color: rgb(29\, 33\, 41)\; font-family: Helvetica\, Arial\, sans-serif\; font-size: 14px\; white-space: pre-wrap\;">Heated clothing &amp\; accessories to keep you warm and safe during any outdoor activity!</span><br style="color: rgb(29\, 33\, 41)\; font-family: Helvetica\, Arial\, sans-serif\; font-size: 14px\; white-space: pre-wrap\;" />\n<br style="color: rgb(29\, 33\, 41)\; font-family: Helvetica\, Arial\, sans-serif\; font-size: 14px\; white-space: pre-wrap\;" />\n<span style="font-size:18px\;"><strong><span style="color: rgb(29\, 33\, 41)\; font-family: Helvetica\, Arial\, sans-serif\; white-space: pre-wrap\;">Join us for the Grand Opening of our new Heated 4 U retail store!</span></strong></span><br style="color: rgb(29\, 33\, 41)\; font-family: Helvetica\, Arial\, sans-serif\; font-size: 14px\; white-space: pre-wrap\;" />\n<br style="color: rgb(29\, 33\, 41)\; font-family: Helvetica\, Arial\, sans-serif\; font-size: 14px\; white-space: pre-wrap\;" />\n<span style="color: rgb(29\, 33\, 41)\; font-family: Helvetica\, Arial\, sans-serif\; font-size: 14px\; white-space: pre-wrap\;">During the event we will have Raffle Prizes &amp\; Special Early Black Friday Discounts.</span><br style="color: rgb(29\, 33\, 41)\; font-family: Helvetica\, Arial\, sans-serif\; font-size: 14px\; white-space: pre-wrap\;" />\n<br style="color: rgb(29\, 33\, 41)\; font-family: Helvetica\, Arial\, sans-serif\; font-size: 14px\; white-space: pre-wrap\;" />\n<span style="color: rgb(29\, 33\, 41)\; font-family: Helvetica\, Arial\, sans-serif\; font-size: 14px\; white-space: pre-wrap\;">Come meet our crazy fun family &amp\; start shopping for the holidays!</span><br style="color: rgb(29\, 33\, 41)\; font-family: Helvetica\, Arial\, sans-serif\; font-size: 14px\; white-space: pre-wrap\;" />\n<br style="color: rgb(29\, 33\, 41)\; font-family: Helvetica\, Arial\, sans-serif\; font-size: 14px\; white-space: pre-wrap\;" />\n<span style="color: rgb(29\, 33\, 41)\; font-family: Helvetica\, Arial\, sans-serif\; font-size: 14px\; white-space: pre-wrap\;">The opening event will end at 3pm\, however discounts will be available &amp\; the store will be open until 6pm.</span>
LOCATION:1169 Priestford Rd Street\, MD 21154
UID:e.2776.10590
SEQUENCE:3
DTSTAMP:20260424T221048Z
URL:https://business.harfordchamber.org/events/details/heated4u-grand-opening-celebration-10590
END:VEVENT

END:VCALENDAR
