BEGIN:VCALENDAR
VERSION:2.0
PRODID:-//ChamberMaster//Event Calendar 2.0//EN
METHOD:PUBLISH
X-PUBLISHED-TTL:P3D
REFRESH-INTERVAL:P3D
CALSCALE:GREGORIAN
BEGIN:VEVENT
DTSTART:20211031T170000Z
DTEND:20211031T210000Z
X-MICROSOFT-CDO-ALLDAYEVENT:FALSE
SUMMARY:Howl-O-Ween Tails & Treats Pet Fest
DESCRIPTION:Enter your pet in the Costume Parade at 3 PM. Guess the number of milk bones\, and win them! Kids' activities. Climb the Lighthouse Tower and tour the Keeper's House Museum. Free admission.
X-ALT-DESC;FMTTYPE=text/html:Enter your pet in the Costume Parade at 3 PM. Guess the number of milk bones\, and win them! Kids&#39\; activities. Climb the Lighthouse Tower and tour the Keeper&#39\;s House Museum. Free admission.
LOCATION:Concord Point Lighthouse\, Havre de Grace\, MD.
UID:e.2776.12629
SEQUENCE:3
DTSTAMP:20260424T041417Z
URL:https://business.harfordchamber.org/events/details/howl-o-ween-tails-treats-pet-fest-12629
END:VEVENT

END:VCALENDAR
