BEGIN:VCALENDAR
VERSION:2.0
PRODID:-//ChamberMaster//Event Calendar 2.0//EN
METHOD:PUBLISH
X-PUBLISHED-TTL:P3D
REFRESH-INTERVAL:P3D
CALSCALE:GREGORIAN
BEGIN:VEVENT
DTSTART:20251016T213000Z
DTEND:20251017T000000Z
X-MICROSOFT-CDO-ALLDAYEVENT:FALSE
SUMMARY:Illuminating HOPE Dinner
DESCRIPTION:You are invited to the Illuminating HOPE Dinner!\n\n\nJoin us for an inspiring evening at the Illuminating Hope Dinner\, where we come together to celebrate the impact of Choose Hope Women's Center and the bright future ahead. Hear an uplifting update from Executive Director\, Stephanie Atha on how we are continuing to ILLUMINATE HOPE in our community - where moms find courage\, babies are cherished\, and lives are forever changed!\n\nEnjoy a beautifully crafted dinner prepared by Evolved Catering\, featuring the culinary artistry of The Local.\n\nWhile this is a FREE event\, seating is LIMITED\, so register today! Come be part of an evening filled with purpose\, connection\, and HOPE! Sponsorship opportunities are still available and can be found on the registration link.
X-ALT-DESC;FMTTYPE=text/html:<p><strong>You are invited to the Illuminating HOPE Dinner!</strong></p>\n\n<div>\n<p>Join us for an inspiring evening at the&nbsp\;<em>Illuminating Hope Dinner</em>\,&nbsp\;where we come together to celebrate the impact of Choose Hope Women&rsquo\;s Center and the bright future ahead.&nbsp\;<span style="background-color:rgb(255\, 255\, 255)\; color:rgb(51\, 51\, 51)\; font-family:sans-serif\,arial\,verdana\,trebuchet ms\; font-size:13px">Hear an uplifting update from Executive Director\, Stephanie Atha on how we are continuing to <strong>ILLUMINATE HOPE in our community - where moms find courage\, babies are cherished\, and lives are forever changed</strong>!</span></p>\n\n<p>Enjoy a beautifully crafted dinner prepared by&nbsp\;Evolved Catering\, featuring the culinary artistry of&nbsp\;The Local.</p>\n\n<p>While this is a FREE event\, seating is&nbsp\;LIMITED\, so register today! Come be part of an evening filled with purpose\, connection\, and&nbsp\;HOPE! <strong>Sponsorship opportunities are still available and can be found on the registration link.</strong></p>\n</div>\n
LOCATION:Evolved Event Center 2315 Bel Air Rd Unit B5 Fallston\, MD 21047
UID:e.2776.16074
SEQUENCE:3
DTSTAMP:20260423T091031Z
URL:https://business.harfordchamber.org/events/details/illuminating-hope-dinner-16074
END:VEVENT

END:VCALENDAR
