BEGIN:VCALENDAR
VERSION:2.0
PRODID:-//ChamberMaster//Event Calendar 2.0//EN
METHOD:PUBLISH
X-PUBLISHED-TTL:P3D
REFRESH-INTERVAL:P3D
CALSCALE:GREGORIAN
BEGIN:VEVENT
DTSTART:20191001T160000Z
DTEND:20191001T170000Z
X-MICROSOFT-CDO-ALLDAYEVENT:FALSE
SUMMARY:Industrial Athlete Power Hour - Free Lunch & Networking
DESCRIPTION:Do you experience soreness or pain while at work? You're not alone! Every 7 seconds a worker is injured on the job. Innovative Physical Therapy can help reduce your chance of injury.\n\n\n\nJoin owner and physical therapist\, Bryan Morrow\, for a working power hour lunch at Innovative Physical Therapy - Forest Hill. Bryan has spent over 1\,000 hours working with industrial athletes\, either getting them back to work after an injury or teaching techniques to prevent the injury or pain.\n\n\n	\n	20 minutes of Learning Tips & Techniques to aliviate and prevent pain while at work.\n	\n	\n	20 minutes of Stretching and Exercises you can do daily to reduce pain and risk of injury.\n\n	20 mintues for Lunch and Networking\n	\n\n\nOpen to anyone who lives and works in Harford County. Register online https://www.innovativeptcenters.com/events \n\nForest Hill\, Maryland
X-ALT-DESC;FMTTYPE=text/html:<h1><font color="#1d2129"><span style="font-size:14px">Do you experience soreness or pain&nbsp\;</span><span style="caret-color:rgb(29\, 33\, 41)\; font-size:14px">while</span><span style="font-size:14px">&nbsp\;at work? You&#39\;re not alone! Every 7 seconds a worker is injured on the job. Innovative Physical Therapy can help reduce your chance of injury.</span></font><br />\n<br />\n<span style="color:rgb(29\, 33\, 41)\; font-family:system-ui\,-apple-system\,blinkmacsystemfont\,.sfnstext-regular\,sans-serif\; font-size:14px">Join owner and physical therapist\, Bryan Morrow\, for a working power hour lunch at </span><a href="https://www.facebook.com/iPTForestHill/" style="color: rgb(56\, 88\, 152)\; cursor: pointer\; text-decoration: none\; font-family: system-ui\, -apple-system\, BlinkMacSystemFont\, &quot\;.SFNSText-Regular&quot\;\, sans-serif\; font-size: 14px\; white-space: pre-wrap\;" target="_blank">Innovative Physical Therapy - Forest Hill</a><span style="color:rgb(29\, 33\, 41)\; font-family:system-ui\,-apple-system\,blinkmacsystemfont\,.sfnstext-regular\,sans-serif\; font-size:14px">. </span><span style="color:rgb(29\, 33\, 41)\; font-family:system-ui\,-apple-system\,blinkmacsystemfont\,.sfnstext-regular\,sans-serif\; font-size:14px">Bryan has spent over 1\,000 hours working with industrial athletes\, either getting them back to work after an injury or teaching techniques to prevent the injury or pain.</span></h1>\n\n<ul>\n	<li>\n	<h1><span style="color:rgb(29\, 33\, 41)\; font-family:system-ui\,-apple-system\,blinkmacsystemfont\,.sfnstext-regular\,sans-serif\; font-size:14px">20 minutes of Learning Tips &amp\; Techniques to aliviate and prevent pain while at work.</span></h1>\n	</li>\n	<li>\n	<h1><span style="color:rgb(29\, 33\, 41)\; font-family:system-ui\,-apple-system\,blinkmacsystemfont\,.sfnstext-regular\,sans-serif\; font-size:14px"><span style="color:rgb(29\, 33\, 41)\; font-family:system-ui\,-apple-system\,blinkmacsystemfont\,.sfnstext-regular\,sans-serif\; font-size:14px">20 minutes of Stretching and Exercises you can do daily to reduce pain and risk of injury.<br />\n	<span style="color:rgb(29\, 33\, 41)\; font-family:system-ui\,-apple-system\,blinkmacsystemfont\,.sfnstext-regular\,sans-serif\; font-size:14px">20 mintues for Lunch and Networking</span></span></span></h1>\n	</li>\n</ul>\n\n<h1><span style="color:rgb(29\, 33\, 41)\; font-family:system-ui\,-apple-system\,blinkmacsystemfont\,.sfnstext-regular\,sans-serif\; font-size:14px">Open to anyone who lives and works in Harford County. Register online&nbsp\;</span><a href="https://www.innovativeptcenters.com/events?fbclid=IwAR0EWmgreBSNqdQVCFet-C7_4Ny9mph_QR7JAteDtgBGEn-gwfQIZ95g83I" rel="nofollow noopener" style="color: rgb(56\, 88\, 152)\; cursor: pointer\; text-decoration: none\; font-family: system-ui\, -apple-system\, BlinkMacSystemFont\, &quot\;.SFNSText-Regular&quot\;\, sans-serif\; font-size: 14px\; white-space: pre-wrap\;" target="_blank">https://www.innovativeptcenters.com/events</a><span style="color:rgb(29\, 33\, 41)\; font-family:system-ui\,-apple-system\,blinkmacsystemfont\,.sfnstext-regular\,sans-serif\; font-size:14px"> </span><br />\n<a href="https://www.facebook.com/pages/Forest-Hill-Maryland/105553362810363" style="color: rgb(56\, 88\, 152)\; cursor: pointer\; text-decoration: none\; font-family: system-ui\, -apple-system\, BlinkMacSystemFont\, &quot\;.SFNSText-Regular&quot\;\, sans-serif\; font-size: 14px\; white-space: pre-wrap\;" target="_blank">Forest Hill\, Maryland</a></h1>\n
LOCATION:121 Industry Lane Forest Hill\, MD 21050
UID:e.2776.8550
SEQUENCE:3
DTSTAMP:20260425T000625Z
URL:https://business.harfordchamber.org/events/details/industrial-athlete-power-hour-free-lunch-networking-8550
END:VEVENT

END:VCALENDAR
