BEGIN:VCALENDAR
VERSION:2.0
PRODID:-//ChamberMaster//Event Calendar 2.0//EN
METHOD:PUBLISH
X-PUBLISHED-TTL:P3D
REFRESH-INTERVAL:P3D
CALSCALE:GREGORIAN
BEGIN:VEVENT
DTSTART:20190926T200000Z
DTEND:20190926T220000Z
X-MICROSOFT-CDO-ALLDAYEVENT:FALSE
SUMMARY:ITekFED & IncrediTek New Location Ribbon Cutting & Celebration
DESCRIPTION:Join us for our Grand Opening Celebration at our NEW location in Havre de Grace!\n\n\n\nITekFed is a service-disabled\, veteran-owned small business providing integrated Federal IT and data center requirements. Please join CEO Adam Pattisall and his team as they celebrate the grand opening at their new location in Havre de Grace. Adam is also the owner of Increditek\, headquartered in Belcamp\, MD. \n\n\n\nCome out to join Adam and meet the team\, tour the warehouse\, and of course join in the celebrations with a Ribbon Cutting and refreshments!
X-ALT-DESC;FMTTYPE=text/html:<span style="font-size:14px\;"><span style="font-family:times new roman\;"><strong>Join us for our Grand Opening Celebration at our NEW location in Havre de Grace!</strong><br />\n<br />\nITekFed is a service-disabled\, veteran-owned small business providing integrated Federal IT and data center requirements. Please join CEO Adam Pattisall and his team as they celebrate the grand opening at their new location in Havre de Grace. Adam is also the owner of Increditek\, headquartered in Belcamp\, MD.&nbsp\;</span></span><br />\n<br />\n<span style="font-size:14px\;"><span style="font-family:times new roman\;"><strong>Come out to join Adam and meet the team\, tour the warehouse\, and of course join in the celebrations with a Ribbon Cutting and refreshments!&nbsp\;</strong></span></span>
LOCATION:1101 Revoluation Street Havre de Grace\, MD 21078
UID:e.2776.8547
SEQUENCE:3
DTSTAMP:20260425T234847Z
URL:https://business.harfordchamber.org/events/details/itekfed-increditek-new-location-ribbon-cutting-celebration-8547
END:VEVENT

END:VCALENDAR
