BEGIN:VCALENDAR
VERSION:2.0
PRODID:-//ChamberMaster//Event Calendar 2.0//EN
METHOD:PUBLISH
X-PUBLISHED-TTL:P3D
REFRESH-INTERVAL:P3D
CALSCALE:GREGORIAN
BEGIN:VEVENT
DTSTART:20191205T233000Z
DTEND:20191206T003000Z
X-MICROSOFT-CDO-ALLDAYEVENT:FALSE
SUMMARY:Jordan Lally and Big Infinite Family Concert
DESCRIPTION:Musician and mental health advocate Jordan Lally and his band\, Big Infinite\, present a family-friendly music concert that ties songs to love\, mindfulness\, creative expression and healthy teachings. Registration is recommended in advance by visiting HCPLonline.org or calling 410-638-3990.
X-ALT-DESC;FMTTYPE=text/html:<span style="font-family:times new roman\,serif"><span style="font-size:12.0pt">Musician and mental health advocate Jordan Lally and his band\, Big Infinite\, present a family-friendly music concert that ties songs to love\, mindfulness\, creative expression and healthy teachings. Registration is recommended in advance by visiting HCPLonline.org or calling 410-638-3990.</span></span><br />\n&nbsp\;
LOCATION:Abingdon Library 2510 Tollgate Road Abingdon\, Maryland 21009
UID:e.2776.10607
SEQUENCE:3
DTSTAMP:20260424T235617Z
URL:https://business.harfordchamber.org/events/details/jordan-lally-and-big-infinite-family-concert-10607
END:VEVENT

END:VCALENDAR
