BEGIN:VCALENDAR
VERSION:2.0
PRODID:-//ChamberMaster//Event Calendar 2.0//EN
METHOD:PUBLISH
X-PUBLISHED-TTL:P3D
REFRESH-INTERVAL:P3D
CALSCALE:GREGORIAN
BEGIN:VEVENT
DTSTART:20191025T203000Z
DTEND:20191025T223000Z
X-MICROSOFT-CDO-ALLDAYEVENT:FALSE
SUMMARY:Kiddie Academy North Bel Air Trunk or Treat
DESCRIPTION:We will be hosting our first annual Trunk or Treat. Come join us for this free event on Friday October 25th from 4:30 - 6:30. Plenty of free parking. Decorate your trunk. We will have activities for the children on the playground after they trunk or treat.
X-ALT-DESC;FMTTYPE=text/html:We will be hosting our first annual Trunk or Treat. Come join us for this free event on Friday October 25th from 4:30 - 6:30. Plenty of free parking. Decorate your trunk. We will have activities for the children on the playground after they trunk or treat.
LOCATION:Kiddie Academy North Bel Air 510 Bynum Rd Forest Hill MD
UID:e.2776.9574
SEQUENCE:3
DTSTAMP:20260425T000818Z
URL:https://business.harfordchamber.org/events/details/kiddie-academy-north-bel-air-trunk-or-treat-9574
END:VEVENT

END:VCALENDAR
