BEGIN:VCALENDAR
VERSION:2.0
PRODID:-//ChamberMaster//Event Calendar 2.0//EN
METHOD:PUBLISH
X-PUBLISHED-TTL:P3D
REFRESH-INTERVAL:P3D
CALSCALE:GREGORIAN
BEGIN:VEVENT
DTSTART;VALUE=DATE:20250721
DTEND;VALUE=DATE:20250722
TRANSP:TRANSPARENT
X-MICROSOFT-CDO-ALLDAYEVENT:TRUE
SUMMARY:Kids Baking Camp
DESCRIPTION:Whisk up some summer fun at *Tiffanee & Co. Bakery's Kids Baking Camp*! Young bakers will enjoy hands-on experience in the kitchen as they learn to mix\, bake\, and decorate delicious treats in a safe\, creative\, and confidence-boosting environment. From cupcakes to cookies\, every child takes home sweet memories and their own tasty creations. Perfect for ages 7-13\, this camp is the recipe for a joyful summer adventure!Baa
X-ALT-DESC;FMTTYPE=text/html:Whisk up some summer fun at *Tiffanee &amp\; Co. Bakery&rsquo\;s Kids Baking Camp*! Young bakers will enjoy hands-on experience in the kitchen as they learn to mix\, bake\, and decorate delicious treats in a safe\, creative\, and confidence-boosting environment. From cupcakes to cookies\, every child takes home sweet memories&mdash\;and their own tasty creations. Perfect for ages 7-13\, this camp is the recipe for a joyful summer adventure!Baa<br />\n<br />\n&nbsp\;
LOCATION:The Hive at Rumsey 626 Towne Center Dr Suite 100 Joppatowne MD 21085
UID:e.2776.15754
SEQUENCE:3
DTSTAMP:20260421T165519Z
URL:https://business.harfordchamber.org/events/details/kids-baking-camp-15754
END:VEVENT

END:VCALENDAR
