BEGIN:VCALENDAR
VERSION:2.0
PRODID:-//ChamberMaster//Event Calendar 2.0//EN
METHOD:PUBLISH
X-PUBLISHED-TTL:P3D
REFRESH-INTERVAL:P3D
CALSCALE:GREGORIAN
BEGIN:VEVENT
DTSTART:20190824T120000Z
DTEND:20190824T200000Z
X-MICROSOFT-CDO-ALLDAYEVENT:FALSE
SUMMARY:LEGO Robotics - Single Day Design Challenge
DESCRIPTION:The Boys & Girls Club of Harford and Cecil County are bringing 16 teams of kids to Bel Air for a LEGO robotics competition on August 24th!\n\n\n\nLEGO Robotics systems have given millions of young engineers a way to learn about programming\, mechanical engineering\, teamwork\, strategy and more.\n\n \n\nMany of the teams have acquired enormous skills. We are going to put them to the test of time. In the morning each team will have four hours to design a robot. In the afternoon they will have two ten-minute rounds with a one hour break in between to score the highest score and win cash awards for excellence in design and documentation.\n\n \n\nNOTE: This is an independent robotics event. FIRST \, FIRST INSPIRES \, FIRST  Tech Challenge\, FTC \, FIRST  LEGO League\, FLL \, Junior FIRST  LEGO  League\, and JrFLL \, are jointly held trademarks of FIRST INSPIRES  (https://www.firstinspires.org) and The LEGO Group\, neither of which is overseeing\, involved with\, or responsible for this activity\, product\, or service.
X-ALT-DESC;FMTTYPE=text/html:<div>The Boys &amp\; Girls Club of Harford and Cecil County are bringing <span style="color:rgb(0\, 0\, 0)\; font-family:helvetica\; font-size:12px">16 teams of kids to Bel Air for a LEGO robotics competition on August 24th!</span><br />\n<br />\nLEGO Robotics systems have given millions of young engineers a way to learn about programming\, mechanical engineering\, teamwork\, strategy and more.<br />\n&nbsp\;</div>\n\n<div>Many of the teams have acquired enormous skills. We are going to put them to the test of time. In the morning each team will have four hours to design a robot. In the afternoon they will have two ten-minute rounds with a one hour break in between to score the highest score and win cash awards for excellence in design and documentation.<br />\n&nbsp\;</div>\n\n<div>NOTE: This is an independent robotics event. FIRST&reg\;\, FIRST INSPIRES&reg\;\, FIRST&reg\; Tech Challenge\, FTC&reg\;\, FIRST&reg\; LEGO League\, FLL&reg\;\, Junior FIRST&reg\; LEGO&reg\; League\, and JrFLL&reg\;\, are jointly held trademarks of FIRST INSPIRES&reg\; (<a href="https://l.facebook.com/l.php?u=https%3A%2F%2Fwww.firstinspires.org%2F%3Ffbclid%3DIwAR3akslLuosEcWvvDn-ZZS19qlzhk894cOIezTnaIvmjyJgxvOWXKewdYlY&amp\;h=AT2tXD3yyOAdrjoXfThhSIs9vCnGm19P0PxLPhYLoDSkYWzW-q2xp5YWgGlOWwBy09jrgJaO9D41nGrXDQOMIQAzCEjnBhDjkeB4eqMPZ8Sxj7aOS25Wpzaeg6IGeVxMR0NckjYs1ig6-gQ8uWwSj8jP" rel="noopener nofollow" style="color: rgb(56\, 88\, 152)\; cursor: pointer\; text-decoration-line: none\; font-family: inherit\;" target="_blank">https://www.firstinspires.org</a>) and The LEGO Group\, neither of which is overseeing\, involved with\, or responsible for this activity\, product\, or service.</div>\n
LOCATION:The Boys & Girls Club of Harford and Cecil County - Bel Air Location 525 W. MacPhail Road Bel Air MD 21014
UID:e.2776.8456
SEQUENCE:3
DTSTAMP:20260426T012016Z
URL:https://business.harfordchamber.org/events/details/lego-robotics-single-day-design-challenge-8456
END:VEVENT

END:VCALENDAR
