BEGIN:VCALENDAR
VERSION:2.0
PRODID:-//ChamberMaster//Event Calendar 2.0//EN
METHOD:PUBLISH
X-PUBLISHED-TTL:P3D
REFRESH-INTERVAL:P3D
CALSCALE:GREGORIAN
BEGIN:VEVENT
DTSTART:20260520T160000Z
DTEND:20260520T164500Z
X-MICROSOFT-CDO-ALLDAYEVENT:FALSE
SUMMARY:Leveraging Technology While Protecting Yourself in the Digital World - VIRTUAL EVENT
DESCRIPTION:During this complimentary session\, we'll discuss the ways that you can use technology safely in today's digital world. Learn more about:\n\n\n	How Ameriprise helps protect your information\n	Online security guarantee\n	Working together online and on the go\n	Protecting yourself online\n	Recognizing common types of fraud and scams\n\n\n \n\nPresented By: Inspire Confidence Group\, a private wealth advisory practice of Ameriprise Financial\, LLC
X-ALT-DESC;FMTTYPE=text/html:<p>During this complimentary session\, we&#39\;ll discuss the ways that you can use technology safely in today&#39\;s digital world. Learn more about:</p>\n\n<ul>\n	<li>How Ameriprise helps protect your information</li>\n	<li>Online security guarantee</li>\n	<li>Working together online and on the go</li>\n	<li>Protecting yourself online</li>\n	<li>Recognizing common types of fraud and scams</li>\n</ul>\n\n<p>&nbsp\;</p>\n\n<p><strong>Presented By:</strong>&nbsp\;Inspire Confidence Group\, a private wealth advisory practice of Ameriprise Financial\, LLC</p>\n
LOCATION:Virtual
UID:e.2776.16239
SEQUENCE:3
DTSTAMP:20260424T074216Z
URL:https://business.harfordchamber.org/events/details/leveraging-technology-while-protecting-yourself-in-the-digital-world-virtual-event-16239
END:VEVENT

END:VCALENDAR
