BEGIN:VCALENDAR
VERSION:2.0
PRODID:-//ChamberMaster//Event Calendar 2.0//EN
METHOD:PUBLISH
X-PUBLISHED-TTL:P3D
REFRESH-INTERVAL:P3D
CALSCALE:GREGORIAN
BEGIN:VEVENT
DTSTART:20250924T210000Z
DTEND:20250924T223000Z
X-MICROSOFT-CDO-ALLDAYEVENT:FALSE
SUMMARY:Main Street Social
DESCRIPTION:The Harford County Chamber of Commerce is excited to partner with the Bel Air Downtown Alliance on their September Main Street Social! We look forward to bringing together our members and members of the Alliance for a great evening of networking! Pre-registration is not required\, but be sure to visit the Bel Air Downtown Alliance website for more information. \n\n\n\nThe most successful businesses and professionals are those who connect with their community. We invite you to join us at this monthly networking event so you can meet & mingle with other locals making an impact. Attendees of the Main Street Social will have the opportunity to meet and socialize with the staff of the Alliance\, county and community officials\, and a dynamic mix of entrepreneurs.
X-ALT-DESC;FMTTYPE=text/html:<span style="color:#000000\;"><span style="font-family: Karla\, sans-serif\; font-size: 15px\; text-align: justify\;">The Harford County Chamber of Commerce is excited to partner with the Bel Air Downtown Alliance on their September Main Street Social! We look forward to bringing together our members and members of the Alliance for a great evening of networking! Pre-registration is not required\, but be sure to visit the</span></span><span style="color: rgb(94\, 94\, 94)\; font-family: Karla\, sans-serif\; font-size: 15px\; text-align: justify\;"> <a href="https://downtownbelair.com/events/main-street-social/"><strong><u>Bel Air Downtown Alliance website</u></strong></a> </span><span style="color:#000000\;"><span style="font-family: Karla\, sans-serif\; font-size: 15px\; text-align: justify\;">for more information.&nbsp\;<br />\n<br />\nThe most successful businesses and professionals are those who connect with their community. We invite you to join us at this monthly networking event so you can meet &amp\; mingle with other locals making an impact. Attendees of the Main Street Social will have the opportunity to meet and socialize with the staff of the Alliance\, county and community officials\, and a dynamic mix of entrepreneurs.</span></span>
LOCATION:Independent Brewing Company 418 N Main StBel Air\, MD 21014
UID:e.2776.15753
SEQUENCE:3
DTSTAMP:20260423T111001Z
URL:https://business.harfordchamber.org/events/details/main-street-social-15753
END:VEVENT

END:VCALENDAR
