BEGIN:VCALENDAR
VERSION:2.0
PRODID:-//ChamberMaster//Event Calendar 2.0//EN
METHOD:PUBLISH
X-PUBLISHED-TTL:P3D
REFRESH-INTERVAL:P3D
CALSCALE:GREGORIAN
BEGIN:VEVENT
DTSTART:20190820T220000Z
DTEND:20190820T230000Z
X-MICROSOFT-CDO-ALLDAYEVENT:FALSE
SUMMARY:Managing Healthcare Costs in Retirement
DESCRIPTION:Attend a no obligation\, interactive financial education seminar. Prudential's financial education series is designed to help you understand basic financial concepts like managing debt\, protecting and growing your assets\, preparing for retirement and building a legacy.
X-ALT-DESC;FMTTYPE=text/html:Attend a no obligation\, interactive financial education seminar. Prudential&#39\;s financial education series is designed to help you understand basic financial concepts like managing debt\, protecting and growing your assets\, preparing for retirement and building a legacy.&nbsp\;
LOCATION:Lorien Bel Air 1909 Emmorton Rd. Bel Air\, MD 21015
UID:e.2776.8497
SEQUENCE:3
DTSTAMP:20260426T012510Z
URL:https://business.harfordchamber.org/events/details/managing-healthcare-costs-in-retirement-08-20-2019-8497
END:VEVENT

END:VCALENDAR
