BEGIN:VCALENDAR
VERSION:2.0
PRODID:-//ChamberMaster//Event Calendar 2.0//EN
METHOD:PUBLISH
X-PUBLISHED-TTL:P3D
REFRESH-INTERVAL:P3D
CALSCALE:GREGORIAN
BEGIN:VEVENT
DTSTART:20190624T213000Z
DTEND:20190624T230000Z
X-MICROSOFT-CDO-ALLDAYEVENT:FALSE
SUMMARY:Managing Healthcare Costs in Retirement
DESCRIPTION:Attend a no obligation\, interactive education seminar.  Registration is required as seating is limited.  Refreshments will be available.
X-ALT-DESC;FMTTYPE=text/html:Attend a no obligation\, interactive education seminar.&nbsp\; Registration is required as seating is limited.&nbsp\; Refreshments will be available.
LOCATION:260 Gateway Drive - Suite 3-4B - Bel Air\, MD 21214
UID:e.2776.8424
SEQUENCE:3
DTSTAMP:20260426T043833Z
URL:https://business.harfordchamber.org/events/details/managing-healthcare-costs-in-retirement-8424
END:VEVENT

END:VCALENDAR
