BEGIN:VCALENDAR
VERSION:2.0
PRODID:-//ChamberMaster//Event Calendar 2.0//EN
METHOD:PUBLISH
X-PUBLISHED-TTL:P3D
REFRESH-INTERVAL:P3D
CALSCALE:GREGORIAN
BEGIN:VEVENT
DTSTART:20191217T130000Z
DTEND:20191217T143000Z
X-MICROSOFT-CDO-ALLDAYEVENT:FALSE
SUMMARY:Managing Priorities and Deadlines: Educational Seminar
DESCRIPTION:This course focuses on managing priorities in the workplace. With business and industry focusing more and more on maximum productivity\; managing time and priorities is crucial!\n\nFilled with practical how-to strategies\, this time-management training will ensure that you stop wasting time\, take control of your multiple projects even when they're all top priorities\, handling with ease all of the unexpected demands and unplanned situations that destroy the most careful scheduling\, and stay cool\, calm\, and collected when the pressure is overwhelming and stress threatens your effectiveness.\n\n \nDate/Time Information:\n\n\n\nDecember 17\, 2019\n\n\n\n8:00am - Continental Breakfast\n\n\n\n8:30-9:30am - Presentation on topic\n\n\n\n \n\n\n\nContact Information:\n\n\n\n(410)-838-2020\n\n\n\n \n\n\n\nFees/Admission:\n\n\n\nMember cost - $25\n\n\n\nProspective member cost - $35\n\n\n\n \n\n\n\nLocation:\n\n\n\nHarford Community College\n\n\n\nEdgewood Hall Conference Center\, Room 132\n\n\n\nParking in Parking Lot E off of Thomas Run Rd Entrance #3
X-ALT-DESC;FMTTYPE=text/html:<div data-block="true" data-editor="30fdo" data-offset-key="138qu-0-0" style="font-family: Helvetica\, Arial\, sans-serif\; color: rgb(29\, 33\, 41)\; font-size: 12px\; white-space: pre-wrap\;">\n<div class="_1mf _1mj" data-offset-key="138qu-0-0" style="position: relative\; direction: ltr\; font-family: inherit\;">\n<p style="margin-top: 0px\; margin-bottom: 12pt\; color: rgb(32\, 31\, 30)\; font-family: &quot\;Segoe UI&quot\;\, &quot\;Segoe UI Web (West European)&quot\;\, &quot\;Segoe UI&quot\;\, -apple-system\, BlinkMacSystemFont\, Roboto\, &quot\;Helvetica Neue&quot\;\, sans-serif\; font-size: 15px\;"><i><span style="margin: 0px\; padding: 0px\; border: 0px\; font-style: inherit\; font-variant: inherit\; font-weight: inherit\; font-stretch: inherit\; font-size: 18pt\; line-height: inherit\; font-family: &quot\;Times New Roman&quot\;\, serif\; vertical-align: baseline\; color: rgb(51\, 51\, 51)\;">This course focuses on managing priorities in the workplace.&nbsp\;</span></i><i><span style="margin: 0px\; padding: 0px\; border: 0px\; font-style: inherit\; font-variant: inherit\; font-weight: inherit\; font-stretch: inherit\; font-size: 18pt\; line-height: inherit\; font-family: &quot\;Times New Roman&quot\;\, serif\; vertical-align: baseline\; color: rgb(51\, 51\, 51)\;">With business and industry focusing more and more on maximum productivity\; managing time and priorities&nbsp\;is crucial!</span></i></p>\n\n<p style="margin-top: 0px\; margin-bottom: 12pt\; color: rgb(32\, 31\, 30)\; font-family: &quot\;Segoe UI&quot\;\, &quot\;Segoe UI Web (West European)&quot\;\, &quot\;Segoe UI&quot\;\, -apple-system\, BlinkMacSystemFont\, Roboto\, &quot\;Helvetica Neue&quot\;\, sans-serif\; font-size: 15px\;"><i><span style="margin: 0px\; padding: 0px\; border: 0px\; font-style: inherit\; font-variant: inherit\; font-weight: inherit\; font-stretch: inherit\; font-size: 18pt\; line-height: inherit\; font-family: &quot\;Times New Roman&quot\;\, serif\; vertical-align: baseline\; color: rgb(51\, 51\, 51)\;">Filled with practical how-to strategies\, this time-management training will ensure that you stop wasting time\, take control of your multiple projects even when they&#39\;re all top priorities\, handling with ease all of the unexpected demands and unplanned situations that destroy the most careful scheduling\, and stay cool\, calm\, and collected when the pressure is overwhelming and stress threatens your effectiveness.</span></i><br />\n&nbsp\;</p>\n<span style="font-size:16px\;"><span style="font-family:arial\;"><span data-offset-key="fus32-0-0">Date/Time Information:</span></span></span></div>\n</div>\n\n<div data-block="true" data-editor="30fdo" data-offset-key="76i13-0-0" style="font-family: Helvetica\, Arial\, sans-serif\; color: rgb(29\, 33\, 41)\; font-size: 12px\; white-space: pre-wrap\;">\n<div class="_1mf _1mj" data-offset-key="76i13-0-0" style="position: relative\; direction: ltr\; font-family: inherit\;"><span style="font-size:16px\;"><span style="font-family:arial\;"><span data-offset-key="76i13-0-0">December 17\, 2019</span></span></span></div>\n</div>\n\n<div data-block="true" data-editor="30fdo" data-offset-key="5egv1-0-0" style="font-family: Helvetica\, Arial\, sans-serif\; color: rgb(29\, 33\, 41)\; font-size: 12px\; white-space: pre-wrap\;">\n<div class="_1mf _1mj" data-offset-key="5egv1-0-0" style="position: relative\; direction: ltr\; font-family: inherit\;"><span style="font-size:16px\;"><span style="font-family:arial\;"><span data-offset-key="5egv1-0-0">8:00am - Continental Breakfast</span></span></span></div>\n</div>\n\n<div data-block="true" data-editor="30fdo" data-offset-key="b8fu5-0-0" style="font-family: Helvetica\, Arial\, sans-serif\; color: rgb(29\, 33\, 41)\; font-size: 12px\; white-space: pre-wrap\;">\n<div class="_1mf _1mj" data-offset-key="b8fu5-0-0" style="position: relative\; direction: ltr\; font-family: inherit\;"><span style="font-size:16px\;"><span style="font-family:arial\;"><span data-offset-key="b8fu5-0-0">8:30-9:30am - Presentation on topic</span></span></span></div>\n</div>\n\n<div data-block="true" data-editor="30fdo" data-offset-key="2t6v-0-0" style="font-family: Helvetica\, Arial\, sans-serif\; color: rgb(29\, 33\, 41)\; font-size: 12px\; white-space: pre-wrap\;">\n<div class="_1mf _1mj" data-offset-key="2t6v-0-0" style="position: relative\; direction: ltr\; font-family: inherit\;">&nbsp\;</div>\n</div>\n\n<div data-block="true" data-editor="30fdo" data-offset-key="eek2k-0-0" style="font-family: Helvetica\, Arial\, sans-serif\; color: rgb(29\, 33\, 41)\; font-size: 12px\; white-space: pre-wrap\;">\n<div class="_1mf _1mj" data-offset-key="eek2k-0-0" style="position: relative\; direction: ltr\; font-family: inherit\;"><span style="font-size:16px\;"><span style="font-family:arial\;"><span data-offset-key="eek2k-0-0">Contact Information:</span></span></span></div>\n</div>\n\n<div data-block="true" data-editor="30fdo" data-offset-key="ekjbu-0-0" style="font-family: Helvetica\, Arial\, sans-serif\; color: rgb(29\, 33\, 41)\; font-size: 12px\; white-space: pre-wrap\;">\n<div class="_1mf _1mj" data-offset-key="ekjbu-0-0" style="position: relative\; direction: ltr\; font-family: inherit\;"><span style="font-size:16px\;"><span style="font-family:arial\;"><span data-offset-key="ekjbu-0-0">(410)-838-2020</span></span></span></div>\n</div>\n\n<div data-block="true" data-editor="30fdo" data-offset-key="av66j-0-0" style="font-family: Helvetica\, Arial\, sans-serif\; color: rgb(29\, 33\, 41)\; font-size: 12px\; white-space: pre-wrap\;">\n<div class="_1mf _1mj" data-offset-key="av66j-0-0" style="position: relative\; direction: ltr\; font-family: inherit\;">&nbsp\;</div>\n</div>\n\n<div data-block="true" data-editor="30fdo" data-offset-key="av0qb-0-0" style="font-family: Helvetica\, Arial\, sans-serif\; color: rgb(29\, 33\, 41)\; font-size: 12px\; white-space: pre-wrap\;">\n<div class="_1mf _1mj" data-offset-key="av0qb-0-0" style="position: relative\; direction: ltr\; font-family: inherit\;"><span style="font-size:16px\;"><span style="font-family:arial\;"><span data-offset-key="av0qb-0-0">Fees/Admission:</span></span></span></div>\n</div>\n\n<div data-block="true" data-editor="30fdo" data-offset-key="9a537-0-0" style="font-family: Helvetica\, Arial\, sans-serif\; color: rgb(29\, 33\, 41)\; font-size: 12px\; white-space: pre-wrap\;">\n<div class="_1mf _1mj" data-offset-key="9a537-0-0" style="position: relative\; direction: ltr\; font-family: inherit\;"><span style="font-size:16px\;"><span style="font-family:arial\;"><span data-offset-key="9a537-0-0">Member cost - $25</span></span></span></div>\n</div>\n\n<div data-block="true" data-editor="30fdo" data-offset-key="ctt6m-0-0" style="font-family: Helvetica\, Arial\, sans-serif\; color: rgb(29\, 33\, 41)\; font-size: 12px\; white-space: pre-wrap\;">\n<div class="_1mf _1mj" data-offset-key="ctt6m-0-0" style="position: relative\; direction: ltr\; font-family: inherit\;"><span style="font-size:16px\;"><span style="font-family:arial\;"><span data-offset-key="ctt6m-0-0">Prospective member cost - $35</span></span></span></div>\n</div>\n\n<div data-block="true" data-editor="30fdo" data-offset-key="171m3-0-0" style="font-family: Helvetica\, Arial\, sans-serif\; color: rgb(29\, 33\, 41)\; font-size: 12px\; white-space: pre-wrap\;">\n<div class="_1mf _1mj" data-offset-key="171m3-0-0" style="position: relative\; direction: ltr\; font-family: inherit\;">&nbsp\;</div>\n</div>\n\n<div data-block="true" data-editor="30fdo" data-offset-key="eu7m6-0-0" style="font-family: Helvetica\, Arial\, sans-serif\; color: rgb(29\, 33\, 41)\; font-size: 12px\; white-space: pre-wrap\;">\n<div class="_1mf _1mj" data-offset-key="eu7m6-0-0" style="position: relative\; direction: ltr\; font-family: inherit\;"><span style="font-size:16px\;"><span style="font-family:arial\;"><span data-offset-key="eu7m6-0-0">Location:</span></span></span></div>\n</div>\n\n<div data-block="true" data-editor="30fdo" data-offset-key="888n4-0-0" style="font-family: Helvetica\, Arial\, sans-serif\; color: rgb(29\, 33\, 41)\; font-size: 12px\; white-space: pre-wrap\;">\n<div class="_1mf _1mj" data-offset-key="888n4-0-0" style="position: relative\; direction: ltr\; font-family: inherit\;"><span style="font-size:16px\;"><span style="font-family:arial\;"><span data-offset-key="888n4-0-0">Harford Community College</span></span></span></div>\n</div>\n\n<div data-block="true" data-editor="30fdo" data-offset-key="cbjd3-0-0" style="font-family: Helvetica\, Arial\, sans-serif\; color: rgb(29\, 33\, 41)\; font-size: 12px\; white-space: pre-wrap\;">\n<div class="_1mf _1mj" data-offset-key="cbjd3-0-0" style="position: relative\; direction: ltr\; font-family: inherit\;"><span style="font-size:16px\;"><span style="font-family:arial\;"><span data-offset-key="cbjd3-0-0">Edgewood Hall Conference Center\, Room 132</span></span></span></div>\n</div>\n\n<div data-block="true" data-editor="30fdo" data-offset-key="7m892-0-0" style="font-family: Helvetica\, Arial\, sans-serif\; color: rgb(29\, 33\, 41)\; font-size: 12px\; white-space: pre-wrap\;">\n<div class="_1mf _1mj" data-offset-key="7m892-0-0" style="position: relative\; direction: ltr\; font-family: inherit\;"><span style="font-size:16px\;"><span style="font-family:arial\;"><span data-offset-key="7m892-0-0">Parking in Parking Lot E off of Thomas Run Rd Entrance #3</span></span></span></div>\n</div>\n
LOCATION:Harford Community College Edgewood Hall Conference Center\, Room 132 Parking in Parking Lot E off of Thomas Run Rd Entrance #3
UID:e.2776.8516
SEQUENCE:3
DTSTAMP:20260424T235503Z
URL:https://business.harfordchamber.org/events/details/managing-priorities-and-deadlines-educational-seminar-8516
END:VEVENT

END:VCALENDAR
