BEGIN:VCALENDAR
VERSION:2.0
PRODID:-//ChamberMaster//Event Calendar 2.0//EN
METHOD:PUBLISH
X-PUBLISHED-TTL:P3D
REFRESH-INTERVAL:P3D
CALSCALE:GREGORIAN
BEGIN:VEVENT
DTSTART:20190718T220000Z
DTEND:20190719T000000Z
X-MICROSOFT-CDO-ALLDAYEVENT:FALSE
SUMMARY:Medicaid & Long-term Care Planning
DESCRIPTION:Join Lorien Bel Air to learn about the medical eligibility and financial eligibility standards for Medicaid\, the spend-down process\, and much more with Lawyer Rachel Seawell Vogel!
X-ALT-DESC;FMTTYPE=text/html:<span style="font-size:16px">Join Lorien Bel Air to learn about the medical eligibility and financial eligibility standards for Medicaid\, the spend-down process\, and much more with Lawyer Rachel Seawell Vogel!</span>
LOCATION:Lorien Bel Air 1909 Emmorton Rd. Bel Air\, MD 21015
UID:e.2776.8433
SEQUENCE:3
DTSTAMP:20260426T031449Z
URL:https://business.harfordchamber.org/events/details/medicaid-long-term-care-planning-8433
END:VEVENT

END:VCALENDAR
