BEGIN:VCALENDAR
VERSION:2.0
PRODID:-//ChamberMaster//Event Calendar 2.0//EN
METHOD:PUBLISH
X-PUBLISHED-TTL:P3D
REFRESH-INTERVAL:P3D
CALSCALE:GREGORIAN
BEGIN:VEVENT
DTSTART:20200217T190000Z
DTEND:20200217T210000Z
X-MICROSOFT-CDO-ALLDAYEVENT:FALSE
SUMMARY:Meet Harriet Tubman at the Historic Liriodendron Mansion
DESCRIPTION:Experience the Underground Railroad through this adventurous talk and walk with the courageous Harriet Tubman\, brought to life by Janice Curtis Greene   the preeminent living biographer of Harriet Tubman. Learn about Harriet Tubman in an historic setting Hike outdoors to learn the secrets of freedom-seekers Explore the beautiful Liriodendron Mansion Rain or shine   dress for the weather and wear comfortable shoes for light hiking. This event is free\, but space is limited\, so tickets are required. Recommended for ages 12 and up. Tickets may be reserved on Eventbrite\, or by calling the Liriodendron at 410-879-4424. Tickets: https://www.eventbrite.com/e/meet-harriet-tubman-at-the-liriodendron-mansion-tickets-90148052251
X-ALT-DESC;FMTTYPE=text/html:Experience the Underground Railroad through this adventurous talk and walk with the courageous Harriet Tubman\, brought to life by Janice Curtis Greene &ndash\; the preeminent living biographer of Harriet Tubman. Learn about Harriet Tubman in an historic setting Hike outdoors to learn the secrets of freedom-seekers Explore the beautiful Liriodendron Mansion Rain or shine &ndash\; dress for the weather and wear comfortable shoes for light hiking. This event is free\, but space is limited\, so tickets are required. Recommended for ages 12 and up. Tickets may be reserved on Eventbrite\, or by calling the Liriodendron at 410-879-4424. Tickets: https://www.eventbrite.com/e/meet-harriet-tubman-at-the-liriodendron-mansion-tickets-90148052251
LOCATION:The Liriodendron Mansion 502 West Gordon St. Bel Air\, MD 21014
UID:e.2776.11651
SEQUENCE:3
DTSTAMP:20260424T215108Z
URL:https://business.harfordchamber.org/events/details/meet-harriet-tubman-at-the-historic-liriodendron-mansion-11651
END:VEVENT

END:VCALENDAR
