BEGIN:VCALENDAR
VERSION:2.0
PRODID:-//ChamberMaster//Event Calendar 2.0//EN
METHOD:PUBLISH
X-PUBLISHED-TTL:P3D
REFRESH-INTERVAL:P3D
CALSCALE:GREGORIAN
BEGIN:VEVENT
DTSTART:20251025T233000Z
DTEND:20251026T013000Z
X-MICROSOFT-CDO-ALLDAYEVENT:FALSE
SUMMARY:Meet Loaf: The Ultimate Meat Loaf Tribute Band
DESCRIPTION:Meet Loaf: The Ultimate Meat Loaf Tribute Band\n\n\n\nGet ready to rock with Meet Loaf\, the ultimate tribute to the legendary Michael Lee Aday\, professionally known as Meat Loaf. Meat Loaf's powerful voice\, theatrical performances\, and iconic roles in films like Rocky Horror Picture Show made him one of history's bestselling artists\, with his Bat Out of Hell trilogy selling over 100 million records.\n\n\n\nBenny Israel's "Meet Loaf" show delivers an authentic\, high-energy experience. This multi-media event features look-alike and sound-alike male and female lead vocalists\, an all-star band\, and a Broadway-style theatrical element. Relive smash hits like "I'd Do Anything for Love" and "Two Out of Three Ain't Bad" while paying homage to the musical genius of Jim Steinman. If you're a fan\, you won't want to miss this stunning tribute!\n\n\n\nOCT 25 | 7:30 PM\n\n\n\nReserved Seating\n\n(Includes fees)\n\n$40 | $35 | $30 | $25\n\n\n\nAPGFCU Arena\n\n\n\nTHIS PERFORMANCE IS MADE POSSIBLE IN PART BY: Harford County Office of Economic Development\, Harford County Cultural Arts Board and the Maryland State Arts Council.
X-ALT-DESC;FMTTYPE=text/html:Meet Loaf: The Ultimate Meat Loaf Tribute Band<br />\n<br />\nGet ready to rock with Meet Loaf\, the ultimate tribute to the legendary Michael Lee Aday\, professionally known as Meat Loaf. Meat Loaf&rsquo\;s powerful voice\, theatrical performances\, and iconic roles in films like Rocky Horror Picture Show made him one of history&rsquo\;s bestselling artists\, with his Bat Out of Hell trilogy selling over 100 million records.<br />\n<br />\nBenny Israel&rsquo\;s &ldquo\;Meet Loaf&rdquo\; show delivers an authentic\, high-energy experience. This multi-media event features look-alike and sound-alike male and female lead vocalists\, an all-star band\, and a Broadway-style theatrical element. Relive smash hits like &ldquo\;I&rsquo\;d Do Anything for Love&rdquo\; and &ldquo\;Two Out of Three Ain&rsquo\;t Bad&rdquo\; while paying homage to the musical genius of Jim Steinman. If you&rsquo\;re a fan\, you won&rsquo\;t want to miss this stunning tribute!<br />\n<br />\nOCT 25 | 7:30 PM<br />\n<br />\nReserved Seating<br />\n(Includes fees)<br />\n$40 | $35 | $30 | $25<br />\n<br />\nAPGFCU Arena<br />\n<br />\nTHIS PERFORMANCE IS MADE POSSIBLE IN PART BY: Harford County Office of Economic Development\, Harford County Cultural Arts Board and the Maryland State Arts Council.
LOCATION:APGFCU Arena
UID:e.2776.16040
SEQUENCE:3
DTSTAMP:20260423T091853Z
URL:https://business.harfordchamber.org/events/details/meet-loaf-the-ultimate-meat-loaf-tribute-band-16040
END:VEVENT

END:VCALENDAR
