BEGIN:VCALENDAR
VERSION:2.0
PRODID:-//ChamberMaster//Event Calendar 2.0//EN
METHOD:PUBLISH
X-PUBLISHED-TTL:P3D
REFRESH-INTERVAL:P3D
CALSCALE:GREGORIAN
BEGIN:VEVENT
DTSTART:20210810T120000Z
DTEND:20210810T130000Z
X-MICROSOFT-CDO-ALLDAYEVENT:FALSE
SUMMARY:Membership Development Committee (MDC) Meeting
DESCRIPTION:Are you a Chamber Cheerleader? Do you want to make an impact on your community by serving as an Ambassador to your fellow Harford County Chamber members and future prospects? If you answered yes\, then this is the committee for you! With many opportunities to meet new members or to engage with existing members that you may not know\, your purpose is key to the longevity of the Harford County Chamber.\n\n\n\nOur dedicated members lend important assistance to our organization by helping our team to grow our membership\, organize programming\, events\, and services of utmost value to our members\, and spread the word about the benefits of belonging to the Harford County Chamber. \n\n\n\nAny interested member is welcome to attend a meeting to check it out!
X-ALT-DESC;FMTTYPE=text/html:<span style="font-size:14px\;">Are you a Chamber Cheerleader? Do you want to make an impact on your community by serving as an Ambassador to your fellow Harford County Chamber members and future prospects? If you answered yes\, then this is the committee for you! With many opportunities to meet new members or to engage with existing members that you may not know\, your purpose is key to the longevity of the Harford County Chamber.<br />\n<br />\nOur dedicated members lend important assistance to our organization by helping our team to grow our membership\, organize programming\, events\, and services of utmost value to our members\, and spread the word about the benefits of belonging to the Harford County Chamber.&nbsp\;<br />\n<br />\nAny interested member is welcome to attend a meeting to check it out!&nbsp\;</span>
LOCATION:Please stay tuned as the meeting gets closer to see if it will be held in-person\, virtually\, or a hybrid of both.
UID:e.2776.12366
SEQUENCE:3
DTSTAMP:20260423T061323Z
URL:https://business.harfordchamber.org/events/details/membership-development-committee-mdc-meeting-08-10-2021-12366
END:VEVENT

END:VCALENDAR
