BEGIN:VCALENDAR
VERSION:2.0
PRODID:-//ChamberMaster//Event Calendar 2.0//EN
METHOD:PUBLISH
X-PUBLISHED-TTL:P3D
REFRESH-INTERVAL:P3D
CALSCALE:GREGORIAN
BEGIN:VEVENT
DTSTART:20240613T140000Z
DTEND:20240613T150000Z
X-MICROSOFT-CDO-ALLDAYEVENT:FALSE
SUMMARY:Meyer’s RV Ribbon Cutting Ceremony
DESCRIPTION:Join us in celebrating the grand opening of Meyer's RV in Joppa! We hope you will join us for our grand opening and press event as we celebrate this momentous occasion with our partners\, advocating for\, supporting\, and celebrating! \n	For more information on Meyer's RV\, the mission\, and history\, please visit About meyersrvsuperstores in Joppa\, MD.
X-ALT-DESC;FMTTYPE=text/html:<ul>\n	<li>Join us in celebrating the grand opening of Meyer&#39\;s RV in Joppa! We hope you will join us for our grand opening and press event as we celebrate this momentous occasion with our partners\, advocating for\, supporting\, and celebrating!&nbsp\;</li>\n	<li>For more information on Meyer&#39\;s RV\, the mission\, and history\, please&nbsp\;visit&nbsp\;<a href="https://www.meyersrvsuperstores.com/joppa-md">About meyersrvsuperstores in Joppa\, MD</a>.</li>\n</ul>\n
LOCATION:1002 Pulaski Hwy Joppa MD 21085
UID:e.2776.15018
SEQUENCE:3
DTSTAMP:20260422T165519Z
URL:https://business.harfordchamber.org/events/details/meyer-s-rv-ribbon-cutting-ceremony-15018
END:VEVENT

END:VCALENDAR
