BEGIN:VCALENDAR
VERSION:2.0
PRODID:-//ChamberMaster//Event Calendar 2.0//EN
METHOD:PUBLISH
X-PUBLISHED-TTL:P3D
REFRESH-INTERVAL:P3D
CALSCALE:GREGORIAN
BEGIN:VEVENT
DTSTART:20191104T140000Z
DTEND:20191104T200000Z
X-MICROSOFT-CDO-ALLDAYEVENT:FALSE
SUMMARY:Middle School Preview
DESCRIPTION:Join us Monday\, November 4\, 2019 (a day HCPS is closed) from 9:00 AM to 3:00 PM to experience the Harford Day Way.\n\nFind out what it's really like to be in a school with small classes\, a challenging inquiry-based curriculum\, the arts\, team sports\, and leadership opportunities. Prospective students will be matched with a student host and spend the day in our regular classes.\n\nProspective parents will have the opportunity to take a tour with one of our 8th Grade Ambassadors\, and attend an information session to learn more about our program\, including advantages of the Age 3 to 8 model\, high school preparation\, and scholarship opportunities.\n\nPlease complete the registration form HERE and we will be in touch shortly to confirm your visit. For questions\, please contact Diane Russell\, Director of Admissions\, dianerussell@harfordday.org
X-ALT-DESC;FMTTYPE=text/html:<p>Join us&nbsp\;<strong>Monday\, November 4\, 2019 (<em>a day HCPS is closed</em>) from 9:00 AM to 3:00 PM</strong>&nbsp\;to experience the&nbsp\;<em>Harford Day Way.</em></p>\n\n<p>Find out what it&#39\;s really like to be in a school with small classes\, a challenging inquiry-based curriculum\, the arts\, team sports\, and leadership opportunities. Prospective students will be matched with a student host and spend the day in our regular classes.</p>\n\n<p>Prospective parents will have the opportunity to take a tour with one of our 8th Grade Ambassadors\, and attend an information session to learn more about our program\, including advantages of the Age 3 to 8 model\, high school preparation\, and scholarship opportunities.</p>\n\n<p>Please complete the registration form <a href="https://www.harfordday.org/admissions/schedule-a-visit/mspreview">HERE</a> and we will be in touch shortly to confirm your visit. For questions\, please contact Diane Russell\, Director of Admissions\,&nbsp\;<a href="mailto:dianerussell@harfordday.org" style="box-sizing: border-box\; background: transparent\; text-decoration-line: none\; color: rgb(0\, 164\, 220)\; transition: background 0.3s ease 0s\, color 0.3s ease 0s\;" target="_blank">dianerussell@harfordday.org</a></p>\n
LOCATION:Harford Day School 715 Moores Mill Road Bel Air\, MD 21014
UID:e.2776.8565
SEQUENCE:3
DTSTAMP:20260424T221013Z
URL:https://business.harfordchamber.org/events/details/middle-school-preview-8565
END:VEVENT

END:VCALENDAR
