BEGIN:VCALENDAR
VERSION:2.0
PRODID:-//ChamberMaster//Event Calendar 2.0//EN
METHOD:PUBLISH
X-PUBLISHED-TTL:P3D
REFRESH-INTERVAL:P3D
CALSCALE:GREGORIAN
BEGIN:VEVENT
DTSTART:20200505T120000Z
DTEND:20200505T130000Z
X-MICROSOFT-CDO-ALLDAYEVENT:FALSE
SUMMARY:Military Affairs Committee Meeting
DESCRIPTION:Military Affairs Committee works with APG to build relationships between the installation and business community. Plans the annual Military Appreciation Luncheon to celebrate and honor our US Armed Forces as well as other veteran and military projects and initiatives throughout Harford County.
X-ALT-DESC;FMTTYPE=text/html:Military Affairs Committee works with APG to build relationships between the installation and business community. Plans the annual Military Appreciation Luncheon to celebrate and honor our US Armed Forces as well as other veteran and military projects and initiatives throughout Harford County.
LOCATION:
UID:e.2776.6409
SEQUENCE:3
DTSTAMP:20260425T111624Z
URL:https://business.harfordchamber.org/events/details/military-affairs-committee-meeting-05-05-2020-6409
END:VEVENT

END:VCALENDAR
