BEGIN:VCALENDAR
VERSION:2.0
PRODID:-//ChamberMaster//Event Calendar 2.0//EN
METHOD:PUBLISH
X-PUBLISHED-TTL:P3D
REFRESH-INTERVAL:P3D
CALSCALE:GREGORIAN
BEGIN:VEVENT
DTSTART:20250716T210000Z
DTEND:20250716T233000Z
X-MICROSOFT-CDO-ALLDAYEVENT:FALSE
SUMMARY:Money Talks - Sing & Sip Social
DESCRIPTION:Get your networking on this month! On July 16th\, be prepared to sing your favorite song and make allot of connections at this free Happy Hour located at the Fallston Barrel House hosted by ConnectPro Networking\, in partnership with the Harford Chamber! Great food will be available while it lasts with a cash bar.
X-ALT-DESC;FMTTYPE=text/html:<span style="font-size:16px\;"><span style="color: rgb(0\, 0\, 0)\; font-family: &quot\;Red Hat Text&quot\;\, Helvetica\, Arial\, sans-serif\;">Get your networking on this month! On July 16th\, be prepared to sing your favorite song and make allot of connections at this free Happy Hour located at the Fallston Barrel House hosted by ConnectPro Networking\, in partnership with the Harford Chamber! Great food will be available while it lasts with a cash bar.</span></span>
LOCATION:Fallston Barrel House: 2403 Bel Air Rd\, Fallston\, MD 21047
UID:e.2776.15756
SEQUENCE:3
DTSTAMP:20260421T150410Z
URL:https://business.harfordchamber.org/events/details/money-talks-sing-sip-social-15756
END:VEVENT

END:VCALENDAR
