BEGIN:VCALENDAR
VERSION:2.0
PRODID:-//ChamberMaster//Event Calendar 2.0//EN
METHOD:PUBLISH
X-PUBLISHED-TTL:P3D
REFRESH-INTERVAL:P3D
CALSCALE:GREGORIAN
BEGIN:VEVENT
DTSTART:20190629T140000Z
DTEND:20190629T190000Z
X-MICROSOFT-CDO-ALLDAYEVENT:FALSE
SUMMARY:Mt. Zion Baptist Church Chosen Conference
DESCRIPTION:CHOSEN: A Family and Youth Conference\n\n\n\nChosen is a conference created to provide tools that can assist families with critical needs\, prepare and develop families to be self-suficient\, and nuture them leaning towards spiritual growth.
X-ALT-DESC;FMTTYPE=text/html:CHOSEN: A Family and Youth Conference<br />\n<br />\nChosen is a conference created to provide tools that can assist families with critical needs\, prepare and develop families to be self-suficient\, and nuture them leaning towards spiritual growth.&nbsp\;
LOCATION:Aberdeen High School 251 Paradise Road\, Aberdeen MD
UID:e.2776.8436
SEQUENCE:3
DTSTAMP:20260426T043832Z
URL:https://business.harfordchamber.org/events/details/mt-zion-baptist-church-chosen-conference-8436
END:VEVENT

END:VCALENDAR
