BEGIN:VCALENDAR
VERSION:2.0
PRODID:-//ChamberMaster//Event Calendar 2.0//EN
METHOD:PUBLISH
X-PUBLISHED-TTL:P3D
REFRESH-INTERVAL:P3D
CALSCALE:GREGORIAN
BEGIN:VEVENT
DTSTART:20191103T230000Z
DTEND:20191104T020000Z
X-MICROSOFT-CDO-ALLDAYEVENT:FALSE
SUMMARY:Music at the Mansion Presents Tom Prasada-Rao
DESCRIPTION:Music at the Mansion is proud to present singer-songwriter Tom Prasada-Rao at the Liriodendron! Called a "virtual world music ensemble rolled into one guy" and "the most compelling presence to emerge in the singer-songwriter genre in a long time"\, Tom is a masterful musician and extraordinary songwriter. His music combines folk with an R&B flavor   melodic\, ambitious\, and reverent. Born in Ethiopia of Indian parents and raised in Washington DC\, Tom is an award-winning performer\, teacher\, producer\, and a distinctive voice. This is someone you definitely want to see! Tickets $15 each for adults\, $7 for children ages 6   12\, under 6 free. Tickets available online\, by phone\, or at the door. https://form.jotform.com/92737231904155 410-879-4424 Music at the Mansion is supported in part by a grant from Maryland State Arts Council through Harford County Cultural Arts Board\, by a grant from Harford County\, and by Music Land.
X-ALT-DESC;FMTTYPE=text/html:Music at the Mansion is proud to present singer-songwriter Tom Prasada-Rao at the Liriodendron! Called a &ldquo\;virtual world music ensemble rolled into one guy&rdquo\; and &ldquo\;the most compelling presence to emerge in the singer-songwriter genre&hellip\;in a long time&rdquo\;\, Tom is a masterful musician and extraordinary songwriter. His music combines folk with an R&amp\;B flavor &ndash\; melodic\, ambitious\, and reverent. Born in Ethiopia of Indian parents and raised in Washington DC\, Tom is an award-winning performer\, teacher\, producer\, and a distinctive voice. This is someone you definitely want to see! Tickets $15 each for adults\, $7 for children ages 6 &ndash\; 12\, under 6 free. Tickets available online\, by phone\, or at the door. https://form.jotform.com/92737231904155 410-879-4424 Music at the Mansion is supported in part by a grant from Maryland State Arts Council through Harford County Cultural Arts Board\, by a grant from Harford County\, and by Music Land.
LOCATION:The Liriodendron Mansion 502 West Gordon St. Bel Air\, MD 21014
UID:e.2776.10583
SEQUENCE:3
DTSTAMP:20260424T221054Z
URL:https://business.harfordchamber.org/events/details/music-at-the-mansion-presents-tom-prasada-rao-11-03-2019-10583
END:VEVENT

END:VCALENDAR
