BEGIN:VCALENDAR
VERSION:2.0
PRODID:-//ChamberMaster//Event Calendar 2.0//EN
METHOD:PUBLISH
X-PUBLISHED-TTL:P3D
REFRESH-INTERVAL:P3D
CALSCALE:GREGORIAN
BEGIN:VEVENT
DTSTART:20190820T130000Z
DTEND:20190820T163000Z
X-MICROSOFT-CDO-ALLDAYEVENT:FALSE
SUMMARY:NAIFA Harford & Cecil County Fundraiser and Regional Meeting
DESCRIPTION:The National Association of Insurance and Financial Advisors is hosting a Harford & Cecil County targeted fundraiser and regional meeting. \n\n\n\nHarford/Cecil County Regional Meeting:\n\n9:30AM-10AM Regional Meeting Check in / Informal Networking\n\n10AM-10:30 Opening Remarks   Brian Jolles\n\n                     Recognition of Team Members & Sponsors\n\n                     Legislative Update   Bryson Popham & Joan Smith\n\n                     Introduction of Commissioner Al Redmer   Bryson Popham\n\n10:30AM-11 Comments & Q&A from MD Insurance Commissioner Al Redmer\n\n11AM-12PM Featured Speaker   Mr. Tom Hegna (via Live-Feed Video)\n\n12PM-12:30PM Guest Appreciation & Closing Remarks   Brian Jolles\n\n\n\n9AM-10AM Targeted Fundraiser (Delegate Kathy Szeliga)\n\nThe targeted fundraiser is a special benefit for members who support our advocacy effort through contributions to our Political Action Committee or to the elected official whom we are honoring. If you wish to attend this part of the regional meeting\, your PAC contribution within the last 12 months will be sufficient. If you wish to make a contribution at the event\, you may make it either to the PAC or to the campaign committee of the elected official we are honoring.
X-ALT-DESC;FMTTYPE=text/html:<strong>The National Association of Insurance and Financial Advisors is hosting a Harford &amp\; Cecil County targeted fundraiser and regional meeting.&nbsp\;</strong><br />\n<br />\n<strong>Harford/Cecil County Regional Meeting:</strong><br />\n9:30AM-10AM Regional Meeting Check in / Informal Networking<br />\n10AM-10:30 Opening Remarks &ndash\; Brian Jolles<br />\n&nbsp\;&nbsp\;&nbsp\;&nbsp\;&nbsp\;&nbsp\;&nbsp\;&nbsp\;&nbsp\;&nbsp\;&nbsp\;&nbsp\;&nbsp\;&nbsp\;&nbsp\;&nbsp\;&nbsp\;&nbsp\;&nbsp\;&nbsp\;&nbsp\;Recognition of Team Members &amp\; Sponsors<br />\n&nbsp\;&nbsp\;&nbsp\;&nbsp\;&nbsp\;&nbsp\;&nbsp\;&nbsp\;&nbsp\;&nbsp\;&nbsp\;&nbsp\;&nbsp\;&nbsp\;&nbsp\;&nbsp\;&nbsp\; &nbsp\; &nbsp\;Legislative Update &ndash\; Bryson Popham &amp\; Joan Smith<br />\n&nbsp\;&nbsp\;&nbsp\;&nbsp\;&nbsp\;&nbsp\;&nbsp\;&nbsp\;&nbsp\;&nbsp\;&nbsp\;&nbsp\;&nbsp\;&nbsp\;&nbsp\;&nbsp\;&nbsp\;&nbsp\;&nbsp\;&nbsp\;&nbsp\;Introduction of Commissioner Al Redmer &ndash\; Bryson Popham<br />\n10:30AM-11 Comments &amp\; Q&amp\;A from MD Insurance Commissioner Al Redmer<br />\n11AM-12PM Featured Speaker &ndash\; Mr. Tom Hegna (via Live-Feed Video)<br />\n12PM-12:30PM Guest Appreciation &amp\; Closing Remarks &ndash\; Brian Jolles<br />\n<br />\n9AM-10AM Targeted Fundraiser (Delegate Kathy Szeliga)<br />\nThe targeted fundraiser is a special benefit for members who support our advocacy effort through contributions to our Political Action Committee or to the elected official whom we are honoring. If you wish to attend this part of the regional meeting\, your PAC contribution within the last 12 months will be sufficient. If you wish to make a contribution at the event\, you may make it either to the PAC or to the campaign committee of the elected official we are honoring.
LOCATION:Waters Edge Event Center 4687 Millennium Drive Belcamp\, MD 21017
UID:e.2776.8465
SEQUENCE:3
DTSTAMP:20260426T031122Z
URL:https://business.harfordchamber.org/events/details/naifa-harford-cecil-county-fundraiser-and-regional-meeting-8465
END:VEVENT

END:VCALENDAR
