BEGIN:VCALENDAR
VERSION:2.0
PRODID:-//ChamberMaster//Event Calendar 2.0//EN
METHOD:PUBLISH
X-PUBLISHED-TTL:P3D
REFRESH-INTERVAL:P3D
CALSCALE:GREGORIAN
BEGIN:VEVENT
DTSTART:20250821T200000Z
DTEND:20250821T230000Z
X-MICROSOFT-CDO-ALLDAYEVENT:FALSE
SUMMARY:NAIFA Maryland Brews & Bites Independent Brewery August 21\, 2025 4:00-7:00 pm
DESCRIPTION:Please come join us Thurs. Aug. 21 at Independent Brewery in Bel Air from 4pm-7pm. Spend the evening mingling with the best and brightest insurance and financial advisors. There is no event fee\, but your registration simply helps us know how many to expect so we can have suitable space. \n\nIf you have questions about NAIFA MD? And you can not make the event\, but want to attend future events? Jsut email our executive direactor of NAIFA MD at jmauer@naifa.org. \n\nBe sure to follow us on linkdin and facebook to keep posted on avtivites in the future.
X-ALT-DESC;FMTTYPE=text/html:Please come join us Thurs. Aug. 21 at Independent Brewery in Bel Air from 4pm-7pm. Spend the evening mingling with the best and brightest insurance and financial advisors. There is no event fee\, but your registration simply helps us know how many to expect so we can have suitable space.&nbsp\;<br />\nIf you have questions about NAIFA MD? And you can not make the event\, but want to attend future events? Jsut email our executive direactor of NAIFA MD at jmauer@naifa.org.&nbsp\;<br />\nBe sure to follow us on linkdin and facebook to keep posted on avtivites in the future.&nbsp\;
LOCATION:Independent Brewerey 418 N Main Street Bel Air MD 21014
UID:e.2776.16041
SEQUENCE:3
DTSTAMP:20260421T131145Z
URL:https://business.harfordchamber.org/events/details/naifa-maryland-brews-bites-independent-brewery-august-21-2025-4-00-7-00-pm-16041
END:VEVENT

END:VCALENDAR
