BEGIN:VCALENDAR
VERSION:2.0
PRODID:-//ChamberMaster//Event Calendar 2.0//EN
METHOD:PUBLISH
X-PUBLISHED-TTL:P3D
REFRESH-INTERVAL:P3D
CALSCALE:GREGORIAN
BEGIN:VEVENT
DTSTART:20250718T170000Z
DTEND:20250718T183000Z
X-MICROSOFT-CDO-ALLDAYEVENT:FALSE
SUMMARY:Navigating Federal & State Taxes: A Practical Guide for Businesses
DESCRIPTION:"Navigating IRS & Maryland Tax Compliance\," is led by Tax Attorneys Candice Miller and Tina Azarvand of Azarvand Tax Law. This session is specifically tailored for business owners and their bookkeepers and/or accountants. During the webinar\, Candice and Tina will delve into crucial topics\, including:\n\nI. Federal Tax Compliance & Updates: Gain insights into crucial federal tax matters\, including:\n\n\n	Proposed Trump Tax Code Changes: Understand potential impacts on your business.\n	Navigating Employee Retention Credit Developments and Audit Preparation: Get the latest updates and prepare for potential scrutiny.\n	Preparing for Maryland Sales & Use Tax Audits: Understand the process and how to best prepare for state-level sales tax audits.\n	The Critical Implications of Worker Misclassification: Learn the crucial distinctions between Independent Contractors and Employees at both federal and state levels.\n	Collection Statutes of Limitations: Understand the non-aligning IRS and Maryland timelines for collecting tax debts.\n\n\nII. Resolving Federal & Maryland Tax Liabilities: Explore options for addressing outstanding tax obligations with both the IRS and the state of Maryland\, including:\n\n\n	Offer in Compromise: Learn about settling tax debt for a lower amount.\n	Installment Agreements: Understand payment plan options.\n	Currently Not Collectible Status (Federal & Maryland): Explore temporary relief from collection actions.\n	Penalty Abatement (Federal & Maryland): Discover opportunities to reduce penalties.\n\n\nIII. Understanding Federal & Maryland Enforcement Actions: Be prepared by understanding potential enforcement actions at both federal and state levels:\n\n\n	Federal Tax Liens: Learn about the IRS's claim against your property.\n	Levy of Assets (Federal & Maryland): Understand the seizure of your assets to satisfy tax debt.\n	Wage/Payment Garnishment (Federal & Maryland): Know how the IRS and Maryland can collect from your income or payments owed to you.\n	Federal Revocation/Suspension of U.S. Passport: Understand this serious federal consequence of tax debt.\n	Maryland Hold Placement on Drivers License\, Vehicle Registration(s)\, and/or Professional License(s): Learn about potential state-level actions for tax non-compliance.\n	Collection Statute of Limitations (Federal IRS vs. Maryland State): Understand the differing timelines for federal and state tax collection.\n\n\nCandice and Tina will answer live questions if time permits.
X-ALT-DESC;FMTTYPE=text/html:<div>&quot\;Navigating IRS &amp\; Maryland Tax Compliance\,&quot\; is led by Tax Attorneys Candice Miller and Tina Azarvand of Azarvand Tax Law. This session is specifically tailored for business owners and their bookkeepers and/or accountants. During the webinar\, Candice and Tina will delve into crucial topics\, including:</div>\n\n<p><strong>I. Federal Tax Compliance &amp\; Updates:</strong>&nbsp\;Gain insights into crucial federal tax matters\, including:</p>\n\n<ul>\n	<li><strong>Proposed Trump Tax Code Changes:</strong>&nbsp\;Understand potential impacts on your business.</li>\n	<li><strong>Navigating Employee Retention Credit Developments and Audit Preparation:</strong>&nbsp\;Get the latest updates and prepare for potential scrutiny.</li>\n	<li><strong>Preparing for Maryland Sales &amp\; Use Tax Audits:</strong>&nbsp\;Understand the process and how to best prepare for state-level sales tax audits.</li>\n	<li><strong>The Critical Implications of Worker Misclassification:</strong>&nbsp\;Learn the crucial distinctions between Independent Contractors and Employees at both federal and state levels.</li>\n	<li><strong>Collection Statutes of Limitations:</strong>&nbsp\;Understand the non-aligning IRS and Maryland timelines for collecting tax debts.</li>\n</ul>\n\n<p><strong>II. Resolving Federal &amp\; Maryland Tax Liabilities:</strong>&nbsp\;Explore options for addressing outstanding tax obligations with both the IRS and the state of Maryland\, including:</p>\n\n<ul>\n	<li><strong>Offer in Compromise:</strong>&nbsp\;Learn about settling tax debt for a lower amount.</li>\n	<li><strong>Installment Agreements:</strong>&nbsp\;Understand payment plan options.</li>\n	<li><strong>Currently Not Collectible Status (Federal &amp\; Maryland):</strong>&nbsp\;Explore temporary relief from collection actions.</li>\n	<li><strong>Penalty Abatement (Federal &amp\; Maryland):</strong>&nbsp\;Discover opportunities to reduce penalties.</li>\n</ul>\n\n<p><strong>III. Understanding Federal &amp\; Maryland Enforcement Actions:</strong>&nbsp\;Be prepared by understanding potential enforcement actions at both federal and state levels:</p>\n\n<ul>\n	<li><strong>Federal Tax Liens:</strong>&nbsp\;Learn about the IRS&#39\;s claim against your property.</li>\n	<li><strong>Levy of Assets (Federal &amp\; Maryland):</strong>&nbsp\;Understand the seizure of your assets to satisfy tax debt.</li>\n	<li><strong>Wage/Payment Garnishment (Federal &amp\; Maryland):</strong>&nbsp\;Know how the IRS and Maryland can collect from your income or payments owed to you.</li>\n	<li><strong>Federal Revocation/Suspension of U.S. Passport:</strong>&nbsp\;Understand this serious federal consequence of tax debt.</li>\n	<li><strong>Maryland Hold Placement on Drivers License\, Vehicle Registration(s)\, and/or Professional License(s):</strong>&nbsp\;Learn about potential state-level actions for tax non-compliance.</li>\n	<li><strong>Collection Statute of Limitations (Federal IRS vs. Maryland State):</strong>&nbsp\;Understand the differing timelines for federal and state tax collection.</li>\n</ul>\n\n<div>Candice and Tina will answer live questions if time permits.</div>\n
LOCATION:meet.google.com/eyw-dxet-wbu
UID:e.2776.15744
SEQUENCE:3
DTSTAMP:20260421T151348Z
URL:https://business.harfordchamber.org/events/details/navigating-federal-state-taxes-a-practical-guide-for-businesses-15744
END:VEVENT

END:VCALENDAR
