BEGIN:VCALENDAR
VERSION:2.0
PRODID:-//ChamberMaster//Event Calendar 2.0//EN
METHOD:PUBLISH
X-PUBLISHED-TTL:P3D
REFRESH-INTERVAL:P3D
CALSCALE:GREGORIAN
BEGIN:VEVENT
DTSTART:20190820T210000Z
DTEND:20190820T230000Z
X-MICROSOFT-CDO-ALLDAYEVENT:FALSE
SUMMARY:Networking at Night at Crabby Axe Throwing
DESCRIPTION:Join the premier business advocates in the county for an evening of 'Networking at Night'  as we celebrate the opening of Harford County's first axe throwing venue\, Crabby Axe Throwing!\n\n\n\nCrabby Axe coaches are ready to teach you the basics and get you out on the range if you'd like to try your hand at axe throwing.
X-ALT-DESC;FMTTYPE=text/html:Join the premier business advocates in the county for an evening of&nbsp\;<em>&#39\;Networking at Night&#39\;&nbsp\;</em>&nbsp\;as we celebrate the opening of Harford County&#39\;s first axe throwing venue\, Crabby Axe Throwing!<br />\n<br />\nCrabby Axe coaches are ready to teach you the basics and get you out on the range if you&#39\;d like to try your hand at axe throwing.
LOCATION:Crabby Axe Throwing 331 Baltimore Pike Bel Air\, MD 21014
UID:e.2776.8492
SEQUENCE:3
DTSTAMP:20260426T030308Z
URL:https://business.harfordchamber.org/events/details/networking-at-night-at-crabby-axe-throwing-8492
END:VEVENT

END:VCALENDAR
