BEGIN:VCALENDAR
VERSION:2.0
PRODID:-//ChamberMaster//Event Calendar 2.0//EN
METHOD:PUBLISH
X-PUBLISHED-TTL:P3D
REFRESH-INTERVAL:P3D
CALSCALE:GREGORIAN
BEGIN:VEVENT
DTSTART:20190926T213000Z
DTEND:20190926T233000Z
X-MICROSOFT-CDO-ALLDAYEVENT:FALSE
SUMMARY:Networking at Night at Freedom Federal Credit Union
DESCRIPTION:Join the premier business advocates in the county for an evening of 'Networking at Night' sponsored by Freedom Federal Credit Union. Enjoy the company of fellow Chamber members\, and refreshments at FFCU's Park Avenue location.
X-ALT-DESC;FMTTYPE=text/html:Join the premier business advocates in the county for an evening of <em>&#39\;Networking at Night&#39\;&nbsp\;</em>sponsored by Freedom Federal Credit Union.&nbsp\;Enjoy the company of fellow Chamber members\, and refreshments at FFCU&#39\;s Park Avenue location.
LOCATION:Freedom Federal Credit Union 2019 Emmorton Road Bel Air\, MD 21015
UID:e.2776.8444
SEQUENCE:3
DTSTAMP:20260425T234941Z
URL:https://business.harfordchamber.org/events/details/networking-at-night-at-freedom-federal-credit-union-8444
END:VEVENT

END:VCALENDAR
