BEGIN:VCALENDAR
VERSION:2.0
PRODID:-//ChamberMaster//Event Calendar 2.0//EN
METHOD:PUBLISH
X-PUBLISHED-TTL:P3D
REFRESH-INTERVAL:P3D
CALSCALE:GREGORIAN
BEGIN:VEVENT
DTSTART:20250805T220000Z
DTEND:20250806T020000Z
X-MICROSOFT-CDO-ALLDAYEVENT:FALSE
SUMMARY:Networking Night at Ripken Stadium
DESCRIPTION:Where can you go to see a minor league baseball team\, enjoy delicious stadium food\, and mingle with friends and coworkers from the Aberdeen\, Havre de Grace\, Harford County Chambers\, and Route 40 businesses? The answer is Ripken Stadium at Leidos Field on Tuesday\, August 5. Gates open at 6 pm for networking\, and we will be gathering at the Corona Beach House on the first baseline. Your ticket includes entry to the game and an unlimited buffet from 6:30 to 8:30 featuring hamburgers\, hot dogs\, macaroni and cheese\, potato salad\, cookies\, and sodas. Tickets are limited\, so hurry and reserve your spot now.
X-ALT-DESC;FMTTYPE=text/html:<p><span style="color: rgb(13\, 33\, 48)\; font-family: futura-lt-w01-book\, sans-serif\; font-size: 16px\;">Where can you go to see a minor league baseball team\, enjoy delicious stadium food\, and mingle with friends and coworkers from the Aberdeen\, Havre de Grace\, Harford County Chambers\, and Route 40 businesses? The answer is Ripken Stadium at Leidos Field on Tuesday\, August 5. Gates open at 6 pm for networking\, and we will be gathering at the Corona Beach House on the first baseline. Your ticket includes entry to the game and an unlimited buffet from 6:30 to 8:30 featuring hamburgers\, hot dogs\, macaroni and cheese\, potato salad\, cookies\, and sodas. Tickets are limited\, so hurry and reserve your spot now.&nbsp\;</span></p>\n
LOCATION:Ripken Stadium 873 Long Drive in Aberdeen
UID:e.2776.15751
SEQUENCE:3
DTSTAMP:20260421T130818Z
URL:https://business.harfordchamber.org/events/details/networking-night-at-ripken-stadium-15751
END:VEVENT

END:VCALENDAR
