BEGIN:VCALENDAR
VERSION:2.0
PRODID:-//ChamberMaster//Event Calendar 2.0//EN
METHOD:PUBLISH
X-PUBLISHED-TTL:P3D
REFRESH-INTERVAL:P3D
CALSCALE:GREGORIAN
BEGIN:VEVENT
DTSTART:20250602T113000Z
DTEND:20250602T193000Z
X-MICROSOFT-CDO-ALLDAYEVENT:FALSE
SUMMARY:NMTC\, NEXTGEN FEDERAL GOLF4STEM Tournament
DESCRIPTION:Please join NMTC and NextGen Federal Systems on June 6\, 2022\, for our annual GOLF4STEM Tournament supporting the Northeastern Maryland Tech Council and its Women In STEM Scholarships at Winter's Run Golf Club\, 1000 North Tollgate Rd\, Bel Air MD. Register at www.GOLF4STEM.COM\n\n\n\nPutting Contest                       All Day\n\n	\n		\n			Registration \n			7:30 AM \n		\n		\n			Breakfast \n			'til 8:30 AM\n		\n		\n			Warm-Up\n			'til 8:50 AM\n		\n		\n			Opening Remarks\n			8:50 AM\n		\n		\n			Shotgun Start\n			9:00 AM\n		\n		\n			Awards Lunch\n			2:00 PM\n		\n		\n			Finale - Hole in One Contest\n			2:30 PM\n		\n		\n			Networking\n			All Day\n		\n	\n\n\n\nPrizes will be awarded to the First and Second Place Teams and winners of the Longest Drive (Male & Female)\, Closest To The Pin\, and Putting contests. Four finalists will vie in the Hole in One Contest for a $50\,000 payout.\n\n\n\nRegistration includes individual Hospitality Bags\, Multiple Hospitality Stations\, and a Celebratory Lunch at the end of play.\n\n\n\nBack by popular demand is the Player Performance Entry Package which includes:\n\n\n	Tournament entry fee\n	Access to the driving range and practice facilities\n	Breakfast\n	Beverages throughout the course\n	Two mulligans\n	One power drive\n	One string putt\n	One putting challenge entry\n	Opportunity to compete in a $50\,000 hole in one challenge\n	Lunch following play\n	Awards\n\n\n\n	\n		\n			 \n			 NMTC Members \n			 Non-Members  \n		\n		\n			Single Golfer \n			 $180\n			 $205\n		\n		\n			Twosome\n			 $335\n			 $385\n		\n		\n			Foursome\n			 $670\n			 $770
X-ALT-DESC;FMTTYPE=text/html:Please join NMTC and NextGen Federal Systems on&nbsp\;June 6\, 2022\, for&nbsp\;our annual GOLF4STEM Tournament supporting&nbsp\;the Northeastern Maryland Tech Council and its Women In STEM Scholarships at <a href="https://www.wintersrun.com/" target="_blank">Winter&#39\;s Run Golf Club\,</a> 1000 North Tollgate Rd\, Bel Air MD. Register at <a href="http://www.planmygolfevent.com/36446-15thAnnualNMTCNextGenFederalSyst/">www.GOLF4STEM.COM</a><br />\n<br />\nPutting Contest&nbsp\; &nbsp\; &nbsp\; &nbsp\; &nbsp\; &nbsp\; &nbsp\; &nbsp\; &nbsp\; &nbsp\; &nbsp\; &nbsp\;All Day\n<table style="text-align:left">\n	<tbody>\n		<tr>\n			<td>Registration&nbsp\;</td>\n			<td style="text-align:center">7:30 AM&nbsp\;</td>\n		</tr>\n		<tr>\n			<td>Breakfast&nbsp\;</td>\n			<td style="text-align:center">&#39\;til 8:30 AM</td>\n		</tr>\n		<tr>\n			<td>Warm-Up</td>\n			<td style="text-align:center">&#39\;til 8:50 AM</td>\n		</tr>\n		<tr>\n			<td>Opening Remarks</td>\n			<td style="text-align:center">8:50 AM</td>\n		</tr>\n		<tr>\n			<td>Shotgun Start</td>\n			<td style="text-align:center">9:00 AM</td>\n		</tr>\n		<tr>\n			<td>Awards Lunch</td>\n			<td style="text-align:center">2:00 PM</td>\n		</tr>\n		<tr>\n			<td>Finale - Hole in One Contest</td>\n			<td style="text-align:center">2:30 PM</td>\n		</tr>\n		<tr>\n			<td>Networking</td>\n			<td style="text-align:center">All Day</td>\n		</tr>\n	</tbody>\n</table>\n<br />\nPrizes will be awarded to the&nbsp\;<strong>First and Second Place Teams and winners of the Longest Drive </strong><strong><strong>(Male &amp\; Female)</strong>\, Closest To The Pin\, and Putting contests.</strong>&nbsp\;Four finalists will vie in the <strong>Hole in One Contest</strong> for a <strong>$50\,000 payout</strong>.<br />\n<br />\nRegistration includes individual&nbsp\;<strong>Hospitality Bags\,</strong>&nbsp\;Multiple&nbsp\;<strong>Hospitality Stations</strong>\, and a&nbsp\;<strong>Celebratory Lunch</strong>&nbsp\;at the end of play.<br />\n<br />\nBack by popular demand&nbsp\;is the <strong>Player Performance Entry Package </strong>which includes:\n\n<ul>\n	<li>Tournament entry fee</li>\n	<li>Access to the driving&nbsp\;range and practice facilities</li>\n	<li>Breakfast</li>\n	<li>Beverages throughout the course</li>\n	<li>Two mulligans</li>\n	<li>One power drive</li>\n	<li>One string putt</li>\n	<li>One putting challenge&nbsp\;entry</li>\n	<li>Opportunity to compete&nbsp\;in a $50\,000 hole in one challenge</li>\n	<li>Lunch following play</li>\n	<li>Awards</li>\n</ul>\n\n<table>\n	<tbody>\n		<tr>\n			<td>&nbsp\;</td>\n			<td style="text-align:center"><strong>&nbsp\;NMTC Members&nbsp\;</strong></td>\n			<td style="text-align:center"><strong>&nbsp\;Non-Members&nbsp\;&nbsp\;</strong></td>\n		</tr>\n		<tr>\n			<td style="text-align:center"><strong>Single Golfer&nbsp\;</strong></td>\n			<td style="text-align:center">&nbsp\;$180</td>\n			<td style="text-align:center">&nbsp\;$205</td>\n		</tr>\n		<tr>\n			<td><strong>Twosome</strong></td>\n			<td style="text-align:center">&nbsp\;$335</td>\n			<td style="text-align:center">&nbsp\;$385</td>\n		</tr>\n		<tr>\n			<td><strong>Foursome</strong></td>\n			<td style="text-align:center">&nbsp\;$670</td>\n			<td style="text-align:center">&nbsp\;$770</td>\n		</tr>\n	</tbody>\n</table>\n
LOCATION:Winter's Run Golf Club\, 1000 North Tollgate Rd\, Bel Air MD
UID:e.2776.12814
SEQUENCE:3
DTSTAMP:20260421T165945Z
URL:https://business.harfordchamber.org/events/details/nmtc-nextgen-federal-golf4stem-tournament-06-02-2025-12814
END:VEVENT

END:VCALENDAR
