BEGIN:VCALENDAR
VERSION:2.0
PRODID:-//ChamberMaster//Event Calendar 2.0//EN
METHOD:PUBLISH
X-PUBLISHED-TTL:P3D
REFRESH-INTERVAL:P3D
CALSCALE:GREGORIAN
BEGIN:VEVENT
DTSTART:20191126T130000Z
DTEND:20191126T143000Z
X-MICROSOFT-CDO-ALLDAYEVENT:FALSE
SUMMARY:North Star Presentation
DESCRIPTION:Please join us on Tuesday\, November 26th from 8am-9:30am to learn about the North Star initiative.  The North Star is an exciting new partnership between Harford County Public Schools and Harford Community College (HCC). The primary goal of the North Star is to ensure every student graduates with college experience and technical certification\, to move forward in their career aspirations. \n\n\n\nPlease be advised that this meeting serves as the Harford County Chamber's Education Committee meeting for November.
X-ALT-DESC;FMTTYPE=text/html:Please join us on Tuesday\, November 26<sup>th</sup>&nbsp\;from 8am-9:30am to learn about the North Star initiative.&nbsp\; <span style="background:white\;"><span style="color:black\;">The North Star is an exciting new partnership between Harford County Public Schools and Harford Community College (HCC). The primary goal of the North Star is to ensure every student graduates with college experience and technical certification\, to move forward in their career aspirations.</span></span>&nbsp\;<br />\n<br />\nPlease be advised that this meeting serves as the Harford County Chamber&#39\;s Education Committee meeting for November.&nbsp\;
LOCATION:Harford Community College Edgewood Hall\, #132
UID:e.2776.9576
SEQUENCE:3
DTSTAMP:20260424T220916Z
URL:https://business.harfordchamber.org/events/details/north-star-presentation-9576
END:VEVENT

END:VCALENDAR
