BEGIN:VCALENDAR
VERSION:2.0
PRODID:-//ChamberMaster//Event Calendar 2.0//EN
METHOD:PUBLISH
X-PUBLISHED-TTL:P3D
REFRESH-INTERVAL:P3D
CALSCALE:GREGORIAN
BEGIN:VEVENT
DTSTART:20251029T180000Z
DTEND:20251029T193000Z
X-MICROSOFT-CDO-ALLDAYEVENT:FALSE
SUMMARY:Not So Spooky STEM
DESCRIPTION:Harford County Public Library presents Not So Spooky STEM for children in grades 3-8 on October 29 from 2 to 3:30 p.m. at the Bel Air Library\, 100 East Pennsylvania Avenue. Fast paced and fun\, kids will use the scientific method to make hypotheses and draw conclusions. They will dissect pumpkins\, make ghosts fly with electricity and dissolve Halloween's favorite candy: candy corn. The program is presented in partnership with University of Maryland Extension Harford County 4-H's educator\, Marylisa Schaedel. Each child attending must register prior to the program at https://programs.hcplonline.org/event/14134724.
X-ALT-DESC;FMTTYPE=text/html:<span style="font-family:arial\,sans-serif">Harford County Public Library presents Not So Spooky STEM for children in grades 3-8 on October 29 from 2 to 3:30 p.m. at the Bel Air Library\, 100 East Pennsylvania Avenue. Fast paced and fun\, kids will use the scientific method to make hypotheses and draw conclusions. They will dissect pumpkins\, make ghosts fly with electricity and dissolve Halloween&rsquo\;s favorite candy: candy corn. The program is presented in partnership with University of Maryland Extension Harford County 4-H&#39\;s educator\, Marylisa Schaedel. Each child attending must register prior to the program at </span><a href="https://programs.hcplonline.org/event/14134724"><span style="font-family:arial\,sans-serif">https://programs.hcplonline.org/event/14134724</span></a><span style="font-family:arial\,sans-serif">.</span><br />\n<br />\n&nbsp\;
LOCATION:Bel Air Library 100 East Pennsylvania Avenue Bel Air
UID:e.2776.16105
SEQUENCE:3
DTSTAMP:20260423T091032Z
URL:https://business.harfordchamber.org/events/details/not-so-spooky-stem-16105
END:VEVENT

END:VCALENDAR
