BEGIN:VCALENDAR
VERSION:2.0
PRODID:-//ChamberMaster//Event Calendar 2.0//EN
METHOD:PUBLISH
X-PUBLISHED-TTL:P3D
REFRESH-INTERVAL:P3D
CALSCALE:GREGORIAN
BEGIN:VEVENT
DTSTART:20191106T000000Z
DTEND:20191106T010000Z
X-MICROSOFT-CDO-ALLDAYEVENT:FALSE
SUMMARY:One Maryland One Book Author Visit
DESCRIPTION:Harford County Public Library will host Dr. Mona Hanna-Attisha\, the 2019 One Maryland One Book author of "What the Eyes Don't See: A Story of Crisis\, Resistance\, and Hope in an American City\," on Tuesday\, November 5\, at 7 p.m. at the Abingdon Library\, 2510 Tollgate Road in Abingdon.\n\n \n\nThis event is free and open to the public\, and advanced registration at HCPLonline.org is suggested.\n\n \n\nAt the Abingdon Library\, Hanna-Attisha will be in conversation with Susan Muaddi Darraj\, a winner of the American Book Award for her novel-in-stories\, "Curious Land\," and who is also an associate professor of English at Harford Community College.\n\n \n\nThe discussion will focus on Hanna-Attisha's book\, which chronicles her relentless pursuit to uncover the contamination of Flint\, Michigan's drinking water\, which would lead to her testifying in front of Congress. Her personal account reads like a scientific thriller as she vividly recounts the effects lead poisoning had on her young patients and the evidence she gathered to share with the world.\n\n \n\nCopies of "What the Eyes Don't See: A Story of Crisis\, Resistance\, and Hope in an American City " will be available for purchase and signing the evening of the talk. A photo opportunity with the author will also be available.\n\n \n\nIn addition\, 17 book discussion programs will be held at libraries and other locations throughout Harford County through Wednesday\, November 13. For times and locations\, visit HCPLonline.org or pick up a copy of Headlines & Happenings at any Harford County Public Library.\n\n \n\nA limited number of free copies of "What the Eyes Don't See: A Story of Crisis\, Resistance\, and Hope in an American City" are available at all Harford County Public Library locations\, while supplies last. In addition\, the book is also available as an eBook\, eAudiobook and CD audiobook and available at HCPLonline.org.\n\n \n\nOne Maryland One Book is a program of Maryland Humanities and is offered in Harford County by Harford County Public Library in partnership with Harford Community College Library.
X-ALT-DESC;FMTTYPE=text/html:<span style="font-size:12px"><span style="font-family:arial\,helvetica\,sans-serif">Harford County Public Library will host Dr. Mona Hanna-Attisha\, the 2019 One Maryland One Book author of &quot\;<span style="color:#333333">What the Eyes Don&rsquo\;t See: A Story of Crisis\, Resistance\, and Hope in an American City\,</span>&quot\; on Tuesday\, November 5\, at 7 p.m. at the Abingdon Library\, 2510 Tollgate Road in Abingdon.<br />\n&nbsp\;<br />\nThis event is free and open to the public\, and advanced registration at HCPLonline.org is suggested.<br />\n&nbsp\;<br />\n<span style="color:#333333">At the Abingdon Library\, Hanna-Attisha will </span>be in conversation with <span style="color:#222222">Susan Muaddi Darraj\, a winner of the American Book Award for her novel-in-stories\, &quot\;Curious Land\,&quot\; and who is also an associate professor of English at Harford Community College.</span><br />\n&nbsp\;<br />\n<span style="color:#222222">The discussion will focus on Hanna-Attisha&#39\;s book\, w</span><span style="color:#333333">hich chronicles her relentless pursuit to uncover the contamination of Flint\, Michigan&rsquo\;s drinking water\, which would lead to her testifying in front of Congress. Her personal account reads like a scientific thriller as she vividly recounts the effects lead poisoning had on her young patients and the evidence she gathered to share with the world.</span><br />\n&nbsp\;<br />\nCopies of &quot\;<span style="color:#333333">What the Eyes Don&rsquo\;t See: A Story of Crisis\, Resistance\, and Hope in an American City</span>&nbsp\;&quot\; will be available for purchase and signing the evening of the talk. A photo opportunity with the author will also be available.<br />\n&nbsp\;<br />\nIn addition\, 17 book discussion programs will be held at libraries and other locations throughout Harford County through Wednesday\, November 13. For times and locations\, visit HCPLonline.org or pick up a copy of Headlines &amp\; Happenings at any Harford County Public Library.<br />\n&nbsp\;<br />\nA limited number of free copies of &quot\;<span style="color:#333333">What the Eyes Don&rsquo\;t See: A Story of Crisis\, Resistance\, and Hope in an American City</span>&quot\; are available at all Harford County Public Library locations\, while supplies last. In addition\, the book is also available as an eBook\, eAudiobook and CD audiobook and available at HCPLonline.org.<br />\n&nbsp\;<br />\nOne Maryland One Book is a program of Maryland Humanities and is offered in Harford County by Harford County Public Library in partnership with Harford Community College Library.</span></span><br />\n<br />\n<br />\n&nbsp\;
LOCATION:Abingdon Library 2510 Tollgate Road Abingdon\, Maryland 21009
UID:e.2776.8558
SEQUENCE:3
DTSTAMP:20260424T220930Z
URL:https://business.harfordchamber.org/events/details/one-maryland-one-book-author-visit-8558
END:VEVENT

END:VCALENDAR
