BEGIN:VCALENDAR
VERSION:2.0
PRODID:-//ChamberMaster//Event Calendar 2.0//EN
METHOD:PUBLISH
X-PUBLISHED-TTL:P3D
REFRESH-INTERVAL:P3D
CALSCALE:GREGORIAN
BEGIN:VEVENT
DTSTART;VALUE=DATE:20191012
DTEND;VALUE=DATE:20191013
TRANSP:TRANSPARENT
X-MICROSOFT-CDO-ALLDAYEVENT:TRUE
SUMMARY:Orangetheory Bel Air's First Anniversary Celebration
DESCRIPTION:We are celebrating Orangetheory Bel Air's one year anniversary!  Stop by on Saturday\, October 12th\, any time between 7am and 2pm to learn more about the fastest growing workout worldwide and to sign up for a free class and be entered into our drawing for a gift card to Conrad Seafood's newest location in Bel Air.  Orangetheory is a science-backed\, technology-tracked\, coach-inspired group workout designed to produce results from the inside out. The hardest part of our workouts is showing up - we make it simple for you to push yourself\, be your personal best and give you more. MORE results. MORE confidence. MORE Life. More than a gym. Because you shouldn't live to exercise. You should exercise to live.
X-ALT-DESC;FMTTYPE=text/html:<span style="font-family:proxima_nova\,open sans\,helvetica neue\,helvetica\,arial\,sans-serif\; font-size:16px">We are celebrating Orangetheory Bel Air&#39\;s one year anniversary!&nbsp\; Stop by on Saturday\, October 12th\, any time between 7am and 2pm to learn more about the fastest growing workout worldwide and&nbsp\;</span><span style="font-family:proxima_nova\,open sans\,helvetica neue\,helvetica\,arial\,sans-serif\; font-size:16px">to sign up for a&nbsp\;</span><span style="font-family:proxima_nova\,open sans\,helvetica neue\,helvetica\,arial\,sans-serif\; font-size:16px">free class and be entered into our drawing for a gift card to Conrad Seafood</span><span style="font-family:proxima_nova\,open sans\,helvetica neue\,helvetica\,arial\,sans-serif\; font-size:16px">&#39\;s newest location in Bel Air.&nbsp\;&nbsp\;</span><span style="font-family:proxima_nova\,open sans\,helvetica neue\,helvetica\,arial\,sans-serif\; font-size:16px">Orangetheory is a science-backed\, technology-tracked\, coach-inspired group workout designed to produce results from the inside out. The hardest part of our workouts is showing up - we make it simple for you to push yourself\, be your personal best and give you more. MORE results. MORE confidence. MORE Life. More than a gym. Because you shouldn&rsquo\;t live to exercise. You should exercise to live.</span>
LOCATION:331 Baltimore Pike\, Suite 2\, Bel Air\, MD 21014
UID:e.2776.8562
SEQUENCE:3
DTSTAMP:20260425T000625Z
URL:https://business.harfordchamber.org/events/details/orangetheory-bel-air-s-first-anniversary-celebration-8562
END:VEVENT

END:VCALENDAR
