BEGIN:VCALENDAR
VERSION:2.0
PRODID:-//ChamberMaster//Event Calendar 2.0//EN
METHOD:PUBLISH
X-PUBLISHED-TTL:P3D
REFRESH-INTERVAL:P3D
CALSCALE:GREGORIAN
BEGIN:VEVENT
DTSTART:20250522T210000Z
DTEND:20250523T010000Z
X-MICROSOFT-CDO-ALLDAYEVENT:FALSE
SUMMARY:Patriot's Happy Hour
DESCRIPTION:Join us for a night where the roar of the chrome meets the heart of the community!  All in support of our veterans!  Join us for our Patriot's Social Hour\, an evening of music\, raffles\, food and drink specials\, and most importantly\, fellowship with veterans\, families\, and community supporters. This event proudly supports our Veterans Affairs and Rehabilitation (VA&R) Project\, helping us uplift those who have served and continue to serve.  20% of the proceeds goes directly to Veterans Affairs & Rehabilitation (VA&R).  You do not need to be a member\, just someone who cares about veterans.
X-ALT-DESC;FMTTYPE=text/html:Join us for a night where the roar of the chrome meets the heart of the community!&nbsp\; All in support of our veterans!&nbsp\; Join us for our Patriot&#39\;s Social Hour\, an evening of music\, raffles\, food and drink specials\, and most importantly\, fellowship with veterans\, families\, and community supporters. This event proudly supports our Veterans Affairs and Rehabilitation (VA&amp\;R) Project\, helping us uplift those who have served and continue to serve.&nbsp\; 20% of the proceeds goes directly to Veterans Affairs &amp\; Rehabilitation (VA&amp\;R).&nbsp\; You do not need to be a member\, just someone who cares about veterans.
LOCATION:Fallston Barrel House 2403 Belair Rd. Fallston\,MD 21047
UID:e.2776.15720
SEQUENCE:3
DTSTAMP:20260421T183306Z
URL:https://business.harfordchamber.org/events/details/patriot-s-happy-hour-15720
END:VEVENT

END:VCALENDAR
