BEGIN:VCALENDAR
VERSION:2.0
PRODID:-//ChamberMaster//Event Calendar 2.0//EN
METHOD:PUBLISH
X-PUBLISHED-TTL:P3D
REFRESH-INTERVAL:P3D
CALSCALE:GREGORIAN
BEGIN:VEVENT
DTSTART:20250402T210000Z
DTEND:20250403T010000Z
X-MICROSOFT-CDO-ALLDAYEVENT:FALSE
SUMMARY:Patriots Social Happy Hour
DESCRIPTION:The American Legion Department of Maryland hosts Patriot's Social Hour.  Join us for an evening of connecting\, community\, and support!  15% of all proceeds will go towards supporting veterans\, plus don't miss our basket raffle and 50/50 drawing!  Everyone is welcome!  Whether you're a veteran\, a family member\, or a supporter of our mission\, this social hour is for you!\n\nThe American Legion Department of Maryland invites you to a special happy hour hosted by our Veterans Affairs and Rehabilitation (VA&R) Commanders Project Committee.  This is a fantastic opportunity to connect with fellow veterans and community members.  Learn more about VA&R services and how they support veterans and their families\, share stories\, network\, and foster camaraderie.  (The Department of Maryland is a 501(c) 19\, non-profit veterans organization).
X-ALT-DESC;FMTTYPE=text/html:The American Legion Department of Maryland hosts Patriot&#39\;s Social Hour.&nbsp\; Join us for an evening of connecting\, community\, and support!&nbsp\; 15% of all proceeds will go towards supporting veterans\, plus don&#39\;t miss our basket raffle and 50/50 drawing!&nbsp\; Everyone is welcome!&nbsp\; Whether you&#39\;re a veteran\, a family member\, or a supporter of our mission\, this social hour is for you!<br />\nThe American Legion Department of Maryland invites you to a special happy hour hosted by our Veterans Affairs and Rehabilitation (VA&amp\;R) Commanders Project Committee.&nbsp\; This is a fantastic opportunity to connect with fellow veterans and community members.&nbsp\; Learn more about VA&amp\;R services and how they support veterans and their families\, share stories\, network\, and foster camaraderie.&nbsp\; (The Department of Maryland is a 501(c) 19\, non-profit veterans organization).
LOCATION:Fallston Barrel House 2403 Belair Rd. Fallston\, MD 21047.
UID:e.2776.15696
SEQUENCE:3
DTSTAMP:20260421T204255Z
URL:https://business.harfordchamber.org/events/details/patriots-social-happy-hour-15696
END:VEVENT

END:VCALENDAR
