BEGIN:VCALENDAR
VERSION:2.0
PRODID:-//ChamberMaster//Event Calendar 2.0//EN
METHOD:PUBLISH
X-PUBLISHED-TTL:P3D
REFRESH-INTERVAL:P3D
CALSCALE:GREGORIAN
BEGIN:VEVENT
DTSTART:20200208T153000Z
DTEND:20200208T161500Z
X-MICROSOFT-CDO-ALLDAYEVENT:FALSE
SUMMARY:Pedaling for Parkinson's - Fundraiser event
DESCRIPTION:Your ride will work up a sweat and generate funds to make lives better for people living with Parkinson's Disease. Who will you ride for? It's $20 to book a bike\, but you are encouraged to donate more. When you register\, you will receive an e-mail with information about how to fundraiser to donate more.\n\n\n\nFor more information visit https://www.parkinson.org
X-ALT-DESC;FMTTYPE=text/html:<span style="color:rgb(29\, 33\, 41)\; font-family:helvetica\,arial\,sans-serif\; font-size:14px">Your ride will work up a sweat and generate funds to make lives better for people living with Parkinson&#39\;s Disease. Who will you ride for? It&#39\;s $20 to book a bike\, but you are encouraged to donate more. When you register\, you will receive an e-mail with information about how to fundraiser to donate more.</span><br />\n<br />\n<span style="color:rgb(29\, 33\, 41)\; font-family:helvetica\,arial\,sans-serif\; font-size:14px">For more information visit </span><a href="https://www.parkinson.org/?fbclid=IwAR0VJAaLPlfu-pvI7fG0dmeO3DjR7Buh9yGrfj3uwxrTrY_oNKrf2c-QIQI" rel="nofollow noopener" style="color: rgb(56\, 88\, 152)\; cursor: pointer\; text-decoration-line: none\; font-family: Helvetica\, Arial\, sans-serif\; font-size: 14px\; white-space: pre-wrap\;" target="_blank">https://www.parkinson.org</a>
LOCATION:True Cycling Fitness Studio 3473 Merchant Blvd. Ste. B Abingdon\, MD. 21009
UID:e.2776.11649
SEQUENCE:3
DTSTAMP:20260424T221048Z
URL:https://business.harfordchamber.org/events/details/pedaling-for-parkinson-s-fundraiser-11649
END:VEVENT

END:VCALENDAR
