BEGIN:VCALENDAR
VERSION:2.0
PRODID:-//ChamberMaster//Event Calendar 2.0//EN
METHOD:PUBLISH
X-PUBLISHED-TTL:P3D
REFRESH-INTERVAL:P3D
CALSCALE:GREGORIAN
BEGIN:VEVENT
DTSTART:20210926T140000Z
DTEND:20210926T220000Z
X-MICROSOFT-CDO-ALLDAYEVENT:FALSE
SUMMARY:People's Choice Exhibition
DESCRIPTION:Join us to vote for your favorite artworks in a variety of categories\, from photography to ceramics! Our artists are counting on your feedback to win awards & prizes in this show\, let's show them how we #SupportLocalArtists !
X-ALT-DESC;FMTTYPE=text/html:Join us to vote for your favorite artworks in a variety of categories\, from photography to ceramics! Our artists are counting on your feedback to win awards &amp\; prizes in this show\, let's show them how we #SupportLocalArtists !
LOCATION:Harford Artists Gallery 37 Main Street Bel Air\, MD 21014
UID:e.2776.12490
SEQUENCE:3
DTSTAMP:20260424T105947Z
URL:https://business.harfordchamber.org/events/details/people-s-choice-exhibition-09-26-2021-12490
END:VEVENT

END:VCALENDAR
