BEGIN:VCALENDAR
VERSION:2.0
PRODID:-//ChamberMaster//Event Calendar 2.0//EN
METHOD:PUBLISH
X-PUBLISHED-TTL:P3D
REFRESH-INTERVAL:P3D
CALSCALE:GREGORIAN
BEGIN:VEVENT
DTSTART:20250620T230000Z
DTEND:20250622T180000Z
X-MICROSOFT-CDO-ALLDAYEVENT:FALSE
SUMMARY:Phoenix Festival Theater: Disney Newsies
DESCRIPTION:Phoenix Festival Theater presents\n\nDISNEY'S NEWSIES | The Broadway Musical\n\n\n\nStop the presses! The Disney film turned Tony-winning Broadway hit inspires everyone to fight for what's right and seize the day.\n\n\n\nBased on the 1992 Disney film\, Newsies is the tale of newsboy Jack Kelly\, who dreams of a better life far from the hardship of the streets. When Joseph Pulitzer and William Randolph Hearst raise distribution prices\, Jack finds a cause to fight for and rallies his army of newsies to strike.\n\n\n\nDISNEY'S NEWSIES is presented through special arrangement with Music Theatre International (MTI). All authorized performance materials are also supplied by MTI. www.mtishows.com\n\n\n\nNewsies runs approximately two hours and 15 minutes\, including one 15-minute intermission.\n\n\n\nJUN 20 | 7 PM\n\nJUN 21 | 2 & 7 PM\n\nJUN 22 | 2 PM\n\n\n\nAMOSS CENTER (Located inside Harford Technical High School)\n\n\n\nReserved Seating:\n\nPremium $24 (Prices includes ticketing fees)\n\nOrchestra $22 (Prices includes ticketing fees) \n\n\n\nPurchase your tickets before APR 16 and SAVE!\n\nNo ticketing fees! Tickets: $22 - $20.\n\n\n\nThis event is supported by the Maryland Start Arts Council & the Harford County Cultural Arts Board.\n\n\n\nFor disability-related accommodations\, contact 443-412-2211 at least two weeks in advance. Everyone who enters requires a ticket. If you have any reservation questions\, please email: ticketing@harford.edu or call 443-412-2211.
X-ALT-DESC;FMTTYPE=text/html:Phoenix Festival Theater presents<br />\nDISNEY&#39\;S NEWSIES | The Broadway Musical<br />\n<br />\nStop the presses! The Disney film turned Tony-winning Broadway hit inspires everyone to fight for what&#39\;s right and seize the day.<br />\n<br />\nBased on the 1992 Disney film\, Newsies is the tale of newsboy Jack Kelly\, who dreams of a better life far from the hardship of the streets. When Joseph Pulitzer and William Randolph Hearst raise distribution prices\, Jack finds a cause to fight for and rallies his army of newsies to strike.<br />\n<br />\nDISNEY&#39\;S NEWSIES is presented through special arrangement with Music Theatre International (MTI). All authorized performance materials are also supplied by MTI. www.mtishows.com<br />\n<br />\nNewsies runs approximately two hours and 15 minutes\, including one 15-minute intermission.<br />\n<br />\nJUN 20 | 7 PM<br />\nJUN 21 | 2 &amp\; 7 PM<br />\nJUN 22 | 2 PM<br />\n<br />\nAMOSS CENTER (Located inside Harford Technical High School)<br />\n<br />\nReserved Seating:<br />\nPremium $24 (Prices includes ticketing fees)<br />\nOrchestra $22 (Prices includes ticketing fees)&nbsp\;<br />\n<br />\nPurchase your tickets before APR 16 and SAVE!<br />\nNo ticketing fees! Tickets: $22 - $20.<br />\n<br />\nThis event is supported by the Maryland Start Arts Council &amp\; the Harford County Cultural Arts Board.<br />\n<br />\nFor disability-related accommodations\, contact 443-412-2211 at least two weeks in advance. Everyone who enters requires a ticket. If you have any reservation questions\, please email: ticketing@harford.edu or call 443-412-2211.
LOCATION:AMOSS CENTER (Located inside of Harford Technical High School)
UID:e.2776.15702
SEQUENCE:3
DTSTAMP:20260421T170421Z
URL:https://business.harfordchamber.org/events/details/phoenix-festival-theater-disney-newsies-15702
END:VEVENT

END:VCALENDAR
