BEGIN:VCALENDAR
VERSION:2.0
PRODID:-//ChamberMaster//Event Calendar 2.0//EN
METHOD:PUBLISH
X-PUBLISHED-TTL:P3D
REFRESH-INTERVAL:P3D
CALSCALE:GREGORIAN
BEGIN:VEVENT
DTSTART:20190907T170000Z
DTEND:20190907T200000Z
X-MICROSOFT-CDO-ALLDAYEVENT:FALSE
SUMMARY:Pictures at an Exhibition Art Exhibit Reception
DESCRIPTION:Annual Juried Art Show Reception and Best of Show Awards announcements.
X-ALT-DESC;FMTTYPE=text/html:Annual Juried Art Show Reception and Best of Show Awards announcements.
LOCATION:Harford Artists' Gallery Armory Marketplace 37 North Main St Suite 104
UID:e.2776.8502
SEQUENCE:3
DTSTAMP:20260426T012317Z
URL:https://business.harfordchamber.org/events/details/pictures-at-an-exhibition-art-exhibit-reception-8502
END:VEVENT

END:VCALENDAR
