BEGIN:VCALENDAR
VERSION:2.0
PRODID:-//ChamberMaster//Event Calendar 2.0//EN
METHOD:PUBLISH
X-PUBLISHED-TTL:P3D
REFRESH-INTERVAL:P3D
CALSCALE:GREGORIAN
BEGIN:VEVENT
DTSTART:20250823T143000Z
DTEND:20250823T153000Z
X-MICROSOFT-CDO-ALLDAYEVENT:FALSE
SUMMARY:Playground Grand Opening @ the Arrow Center for Education Riverside School
DESCRIPTION:The Harford County Chamber of Commerce is proud to host a ribbon cutting ceremony to celebrate the grand opening of their enhanced playground at the Arrow Center for Education Riverside School made possible by the generous support of the Women's Giving Circle of Harford County.\n\n\n\nThe Arrow Center for Education Riverside School will be providing light refreshments\, finger sandwiches\, fruit\, and sweet treats.  In addition\, they will have a raffle for two door prize baskets.
X-ALT-DESC;FMTTYPE=text/html:<span style="border: 0px\; font-variant-numeric: inherit\; font-variant-east-asian: inherit\; font-variant-alternates: inherit\; font-variant-position: inherit\; font-variant-emoji: inherit\; font-stretch: inherit\; font-size: 16px\; line-height: inherit\; font-family: Aptos\, Aptos_EmbeddedFont\, Aptos_MSFontService\, Calibri\, Helvetica\, sans-serif\; font-optical-sizing: inherit\; font-size-adjust: inherit\; font-kerning: inherit\; font-feature-settings: inherit\; font-variation-settings: inherit\; margin: 0px\; padding: 0px\; vertical-align: baseline\; color: rgb(0\, 0\, 0)\;"><b data-olk-copy-source="MessageBody">The Harford County Chamber of Commerce is proud to&nbsp\;host a ribbon cutting&nbsp\;ceremony&nbsp\;to celebrate the grand opening of their enhanced playground at the Arrow Center for Education Riverside School&nbsp\;</b></span><span style="border: 0px\; font-variant-numeric: inherit\; font-variant-east-asian: inherit\; font-variant-alternates: inherit\; font-variant-position: inherit\; font-variant-emoji: inherit\; font-stretch: inherit\; font-size: 16px\; line-height: inherit\; font-family: Aptos\, Aptos_EmbeddedFont\, Aptos_MSFontService\, Calibri\, Helvetica\, sans-serif\; font-optical-sizing: inherit\; font-size-adjust: inherit\; font-kerning: inherit\; font-feature-settings: inherit\; font-variation-settings: inherit\; margin: 0px\; padding: 0px\; vertical-align: baseline\; color: rgb(12\, 100\, 192)\;"><b>made possible by the generous support of the Women&#39\;s Giving Circle of Harford County.</b></span><br />\n<br />\n<!--StartFragment--><span data-olk-copy-source="MessageBody">The Arrow Center for Education Riverside School will be providing light refreshments\, finger sandwiches\, fruit\, and sweet treats.&nbsp\; In addition\, they will have a raffle for two door prize baskets.</span>
LOCATION:Arrow Center for Education Riverside School 1370 Brass Mill Rd.\, Belcamp\, MD 21017
UID:e.2776.16037
SEQUENCE:3
DTSTAMP:20260421T131305Z
URL:https://business.harfordchamber.org/events/details/playground-grand-opening-the-arrow-center-for-education-riverside-school-16037
END:VEVENT

END:VCALENDAR
